BEGIN:VCALENDAR
VERSION:2.0
PRODID:-//taempl Leipzig - ECPv6.15.20//NONSGML v1.0//EN
CALSCALE:GREGORIAN
METHOD:PUBLISH
X-WR-CALNAME:taempl Leipzig
X-ORIGINAL-URL:https://taempl.de
X-WR-CALDESC:Veranstaltungen für taempl Leipzig
REFRESH-INTERVAL;VALUE=DURATION:PT1H
X-Robots-Tag:noindex
X-PUBLISHED-TTL:PT1H
BEGIN:VTIMEZONE
TZID:Europe/Berlin
BEGIN:DAYLIGHT
TZOFFSETFROM:+0100
TZOFFSETTO:+0200
TZNAME:CEST
DTSTART:20250330T010000
END:DAYLIGHT
BEGIN:STANDARD
TZOFFSETFROM:+0200
TZOFFSETTO:+0100
TZNAME:CET
DTSTART:20251026T010000
END:STANDARD
BEGIN:DAYLIGHT
TZOFFSETFROM:+0100
TZOFFSETTO:+0200
TZNAME:CEST
DTSTART:20260329T010000
END:DAYLIGHT
BEGIN:STANDARD
TZOFFSETFROM:+0200
TZOFFSETTO:+0100
TZNAME:CET
DTSTART:20261025T010000
END:STANDARD
BEGIN:DAYLIGHT
TZOFFSETFROM:+0100
TZOFFSETTO:+0200
TZNAME:CEST
DTSTART:20270328T010000
END:DAYLIGHT
BEGIN:STANDARD
TZOFFSETFROM:+0200
TZOFFSETTO:+0100
TZNAME:CET
DTSTART:20271031T010000
END:STANDARD
END:VTIMEZONE
BEGIN:VEVENT
DTSTART;TZID=Europe/Berlin:20260428T170000
DTEND;TZID=Europe/Berlin:20260428T180000
DTSTAMP:20260426T004754
CREATED:20260311T103613Z
LAST-MODIFIED:20260326T105559Z
UID:10001710-1777395600-1777399200@taempl.de
SUMMARY:'Kenne deine Farben - Kleidung Stilbewusst wählen' mit Susanne
DESCRIPTION:Farben können viel mehr\, als wir oft denken: Sie beeinflussen unsere Ausstrahlung\, unsere Wirkung und wie stimmig wir uns in unserer Kleidung fühlen – und können dazu beitragen\, selbstsicher aufzutreten\, authentisch zu wirken und die Auswahl von Kleidung zu erleichtern. \nIn dieser Impulsrunde erhältst du einen Einblick in die Grundlagen der Farb- und Stilberatung. Du erfährst\, wie Farben beschrieben werden\, welche Farben besonders gut mit der eigenen Farbgebung harmonieren und welche Farbkombinationen gut zusammenwirken. \nAußerdem werfen wir einen kurzen Blick auf das Thema persönlicher Stil und darauf\, wie Kleidung bewusster gewählt werden kann. \nDabei bekommst du auch einen Eindruck davon\, wie ich in der individuellen Farb- und Stilberatung arbeite. \nDie Teilnahme ist kostenlos.\nWenn du dabei sein möchtest\, melde dich bitte vorab bei mir unter der Nummer 0174 9563096 an (telefonisch oder per SMS\, WhatsApp\, Telegram oder Signal). \nIch freue mich auf dich. \nSusanne
URL:https://taempl.de/kalender-eintrag/kenne-deine-farben-kleidung-stilbewusst-waehlen-mit-susanne/
LOCATION:tæmpl\, Weißenfelserstraße 11\, Leipzig\, Sachsen\, 04229\, Germany
CATEGORIES:Intern,Öffentlich,Workshopraum
ATTACH;FMTTYPE=image/png:https://taempl.de/wp-content/uploads/2026/03/taempl-Susanne-Paluch.png
END:VEVENT
END:VCALENDAR