BEGIN:VCALENDAR
VERSION:2.0
PRODID:-//taempl Leipzig - ECPv6.15.20//NONSGML v1.0//EN
CALSCALE:GREGORIAN
METHOD:PUBLISH
X-WR-CALNAME:taempl Leipzig
X-ORIGINAL-URL:https://taempl.de
X-WR-CALDESC:Veranstaltungen für taempl Leipzig
REFRESH-INTERVAL;VALUE=DURATION:PT1H
X-Robots-Tag:noindex
X-PUBLISHED-TTL:PT1H
BEGIN:VTIMEZONE
TZID:Europe/Berlin
BEGIN:DAYLIGHT
TZOFFSETFROM:+0100
TZOFFSETTO:+0200
TZNAME:CEST
DTSTART:20250330T010000
END:DAYLIGHT
BEGIN:STANDARD
TZOFFSETFROM:+0200
TZOFFSETTO:+0100
TZNAME:CET
DTSTART:20251026T010000
END:STANDARD
BEGIN:DAYLIGHT
TZOFFSETFROM:+0100
TZOFFSETTO:+0200
TZNAME:CEST
DTSTART:20260329T010000
END:DAYLIGHT
BEGIN:STANDARD
TZOFFSETFROM:+0200
TZOFFSETTO:+0100
TZNAME:CET
DTSTART:20261025T010000
END:STANDARD
BEGIN:DAYLIGHT
TZOFFSETFROM:+0100
TZOFFSETTO:+0200
TZNAME:CEST
DTSTART:20270328T010000
END:DAYLIGHT
BEGIN:STANDARD
TZOFFSETFROM:+0200
TZOFFSETTO:+0100
TZNAME:CET
DTSTART:20271031T010000
END:STANDARD
END:VTIMEZONE
BEGIN:VEVENT
DTSTART;TZID=Europe/Berlin:20260324T100000
DTEND;TZID=Europe/Berlin:20260324T130000
DTSTAMP:20260425T233541
CREATED:20260226T211922Z
LAST-MODIFIED:20260226T213407Z
UID:10001422-1774346400-1774357200@taempl.de
SUMMARY:Dienstags Frauenkreis mit Claudia
DESCRIPTION:STOPPEN\, ATMEN\, FÜHLEN\, MITTEILEN\, GEHALTEN UND GENÄHRT WERDEN \nWir treffen uns im Kreis von Frauen\, um uns zu spüren\, zu entspannen\, zu nähren\, zu inspirieren\, zu halten und uns zu erinnern\, wer wir wirklich sind. \nNutzen werden wir ehrliches Mitteilen\, Kontemplation\, Mama Kakao\, Bewegungsmeditation und die Weisheit jeder Einzelnen und der Gruppe. \nFrauenkreise sind eine Einladung\, in einem sicheren Kreis – in dem es keine Hierarchien\, kein Vergleichen\, besser oder schlechter gibt – dich zu trauen sich zu zeigen\, die Rüstungen und Masken weicher werden zu lassen und wiederzuentdecken\, was es bedeutet wir selbst zu sein… \n\n ZEIT \nAnkommen: ab 9.45 Uhr \nBeginn: 10.00 Uhr \nEnde: 13.00 Uhr \nKOSTEN \n45 € \nANMELDUNG\nhttps://www.claudianeubert.com/frauenkreis-kakaozeremonie
URL:https://taempl.de/kalender-eintrag/dienstags-frauenkreis/2026-03-24/
LOCATION:tæmpl\, Weißenfelserstraße 11\, Leipzig\, Sachsen\, 04229\, Germany
CATEGORIES:Intern,Öffentlich,Workshopraum
ATTACH;FMTTYPE=image/png:https://taempl.de/wp-content/uploads/2026/02/taempl-Dienstagsfrauenkreis-1.png
ORGANIZER;CN="Claudia Neubert":MAILTO:mail@claudianeubert.com
END:VEVENT
BEGIN:VEVENT
DTSTART;VALUE=DATE:20260321
DTEND;VALUE=DATE:20260323
DTSTAMP:20260425T233541
CREATED:20260226T213758Z
LAST-MODIFIED:20260302T104523Z
UID:10001432-1774051200-1774223999@taempl.de
SUMMARY:'Die weiblichen Archetypen' mit Claudia (geschlossene Jahresgruppe)
DESCRIPTION:Jahresgruppe für Frauen „Die weiblichen Archetypen“ mit Claudia Neubert\n\ngeschlossene Gruppe 2026 \nFür die Jahresgruppe 2027 kannst du deinen Platz hier reservieren: https://www.claudianeubert.com/jahresgruppe-2026
URL:https://taempl.de/kalender-eintrag/jahresgruppe-claudia/2026-03-21/
LOCATION:tæmpl\, Weißenfelserstraße 11\, Leipzig\, Sachsen\, 04229\, Germany
CATEGORIES:Intern,Öffentlich,Workshopraum
ATTACH;FMTTYPE=image/png:https://taempl.de/wp-content/uploads/2026/02/taempl-Dienstagsfrauenkreis.png
ORGANIZER;CN="Claudia Neubert":MAILTO:mail@claudianeubert.com
END:VEVENT
END:VCALENDAR