BEGIN:VCALENDAR
VERSION:2.0
PRODID:-//taempl Leipzig - ECPv6.15.20//NONSGML v1.0//EN
CALSCALE:GREGORIAN
METHOD:PUBLISH
X-WR-CALNAME:taempl Leipzig
X-ORIGINAL-URL:https://taempl.de
X-WR-CALDESC:Veranstaltungen für taempl Leipzig
REFRESH-INTERVAL;VALUE=DURATION:PT1H
X-Robots-Tag:noindex
X-PUBLISHED-TTL:PT1H
BEGIN:VTIMEZONE
TZID:Europe/Berlin
BEGIN:DAYLIGHT
TZOFFSETFROM:+0100
TZOFFSETTO:+0200
TZNAME:CEST
DTSTART:20250330T010000
END:DAYLIGHT
BEGIN:STANDARD
TZOFFSETFROM:+0200
TZOFFSETTO:+0100
TZNAME:CET
DTSTART:20251026T010000
END:STANDARD
BEGIN:DAYLIGHT
TZOFFSETFROM:+0100
TZOFFSETTO:+0200
TZNAME:CEST
DTSTART:20260329T010000
END:DAYLIGHT
BEGIN:STANDARD
TZOFFSETFROM:+0200
TZOFFSETTO:+0100
TZNAME:CET
DTSTART:20261025T010000
END:STANDARD
BEGIN:DAYLIGHT
TZOFFSETFROM:+0100
TZOFFSETTO:+0200
TZNAME:CEST
DTSTART:20270328T010000
END:DAYLIGHT
BEGIN:STANDARD
TZOFFSETFROM:+0200
TZOFFSETTO:+0100
TZNAME:CET
DTSTART:20271031T010000
END:STANDARD
END:VTIMEZONE
BEGIN:VEVENT
DTSTART;TZID=Europe/Berlin:20260420T090000
DTEND;TZID=Europe/Berlin:20260420T101500
DTSTAMP:20260425T174749
CREATED:20260311T103117Z
LAST-MODIFIED:20260311T103405Z
UID:10001455-1776675600-1776680100@taempl.de
SUMMARY:Magic MONDAY MORNING Glory
DESCRIPTION:Dein Quickie mit der selbst am Montagmorgen. \nStarte mit mehr Ausrichtung und Intention in deine Woche. \n10er Karte 130€ \nDrop in 15€
URL:https://taempl.de/kalender-eintrag/magic-monday-morning-glory/2026-04-20/
LOCATION:tæmpl\, Weißenfelserstraße 11\, Leipzig\, Sachsen\, 04229\, Germany
CATEGORIES:Intern,Öffentlich,Workshopraum
ATTACH;FMTTYPE=image/png:https://taempl.de/wp-content/uploads/2026/03/taempl-magic-monday.png
ORGANIZER;CN="taempl GbR":MAILTO:kontakt@taempl.de
END:VEVENT
BEGIN:VEVENT
DTSTART;TZID=Europe/Berlin:20260420T100000
DTEND;TZID=Europe/Berlin:20260420T120000
DTSTAMP:20260425T174749
CREATED:20260401T182753Z
LAST-MODIFIED:20260401T182753Z
UID:10002218-1776679200-1776686400@taempl.de
SUMMARY:Kereen
DESCRIPTION:
URL:https://taempl.de/kalender-eintrag/kereen-3/
CATEGORIES:Einzelraum,Intern
END:VEVENT
BEGIN:VEVENT
DTSTART;TZID=Europe/Berlin:20260420T103000
DTEND;TZID=Europe/Berlin:20260420T113000
DTSTAMP:20260425T174749
CREATED:20260401T125759Z
LAST-MODIFIED:20260405T221624Z
UID:10002239-1776681000-1776684600@taempl.de
SUMMARY:open tæmpl
DESCRIPTION:Wir öffnen unsere Türen und laden herzlich ein\, euch im tæmpl zu treffen. \nTee steht bereit und ihr könnt es euch in unserem Workshopraum gemütlich machen\, ein Buch lesen\, ausruhen. \nWas auch immer du gerade brauchst.
URL:https://taempl.de/kalender-eintrag/open-taempl/2026-04-20/
CATEGORIES:Intern,Öffentlich,Workshopraum
ATTACH;FMTTYPE=image/png:https://taempl.de/wp-content/uploads/2026/04/taempl-open-taempl.png
END:VEVENT
BEGIN:VEVENT
DTSTART;TZID=Europe/Berlin:20260420T103000
DTEND;TZID=Europe/Berlin:20260420T130000
DTSTAMP:20260425T174749
CREATED:20260417T150816Z
LAST-MODIFIED:20260417T150816Z
UID:10003127-1776681000-1776690000@taempl.de
SUMMARY:Teamsitzung
DESCRIPTION:
URL:https://taempl.de/kalender-eintrag/teamsitzung-2/2026-04-20/
CATEGORIES:Einzelraum,Intern
END:VEVENT
BEGIN:VEVENT
DTSTART;TZID=Europe/Berlin:20260421T100000
DTEND;TZID=Europe/Berlin:20260421T110000
DTSTAMP:20260425T174749
CREATED:20260131T180333Z
LAST-MODIFIED:20260401T130610Z
UID:10000707-1776765600-1776769200@taempl.de
SUMMARY:Schwangerenyoga mit Melissa
DESCRIPTION:VERTRAUEN I VERBINDUNG I ENTSPANNUNG \n\nkomme in Verbindung mit dir und deinem Baby\n\nIn meinem Schwangerschaftsyoga schenkst du dir und deinem Baby einen geschützten Raum zum Ankommen. Sanfte Bewegungen\, bewusste Atmung und achtsame Momente helfen dir\, dich mit deinem Körper zu verbinden und Vertrauen in deine Schwangerschaft zu stärken. \nDer Fokus liegt auf der liebevollen Verbindung zu dir selbst und deinem Baby\, auf Entspannung\, innerer Ruhe und dem Wahrnehmen deiner eigenen Bedürfnisse. Die Übungen unterstützen dich dabei\, Verspannungen zu lösen\, neue Kraft zu finden und dich mental auf die Geburt vorzubereiten – ohne Leistungsdruck\, in deinem eigenen Tempo. \nSchwangerschaftsyoga darf leicht sein\, nährend und stärkend – für dich und dein Baby.  \n  \nHinweis- melde dich bitte vorher unbedingt an. \nANMELDUNG I INFOS:  \nroots.of.womb@posteo.com // 01616210290 // Webseite aktuell im Aufbau \n  \nich freue mich dich in deiner Yogapraxis zu begleiten.
URL:https://taempl.de/kalender-eintrag/%f0%9f%a9%b7-schwangerenyoga/2026-04-21/
LOCATION:tæmpl\, Weißenfelserstraße 11\, Leipzig\, Sachsen\, 04229\, Germany
CATEGORIES:Intern,Öffentlich,Workshopraum
ATTACH;FMTTYPE=image/png:https://taempl.de/wp-content/uploads/2026/01/taempl-Schwangerenyoga.png
ORGANIZER;CN="taempl GbR":MAILTO:kontakt@taempl.de
END:VEVENT
BEGIN:VEVENT
DTSTART;TZID=Europe/Berlin:20260421T100000
DTEND;TZID=Europe/Berlin:20260421T113000
DTSTAMP:20260425T174749
CREATED:20260401T124131Z
LAST-MODIFIED:20260401T124131Z
UID:10001731-1776765600-1776771000@taempl.de
SUMMARY:Johanna
DESCRIPTION:
URL:https://taempl.de/kalender-eintrag/johanna/
CATEGORIES:Einzelraum,Intern
END:VEVENT
BEGIN:VEVENT
DTSTART;TZID=Europe/Berlin:20260421T190000
DTEND;TZID=Europe/Berlin:20260421T210000
DTSTAMP:20260425T174749
CREATED:20260131T175311Z
LAST-MODIFIED:20260210T223302Z
UID:10000086-1776798000-1776805200@taempl.de
SUMMARY:Capoeira Training mit Mestre Will
DESCRIPTION:mit Mestre Will\, ginga de corpo \nTauche ein in die Welt der brasilianischen Musik\, des Rhythmus und der Lebensfreude und probier Capoeira mit uns aus\, ganz egal ob du schonmal gespielt hast\, du etwas ganz Neues ausprobieren\, magst\, sportlich bist oder nicht\, sei herzlich willkommen!! \nFür Frauen und Männer.
URL:https://taempl.de/kalender-eintrag/capoeira-training/2026-04-21/
LOCATION:tæmpl\, Weißenfelserstraße 11\, Leipzig\, Sachsen\, 04229\, Germany
CATEGORIES:Intern,Öffentlich,Workshopraum
ATTACH;FMTTYPE=image/png:https://taempl.de/wp-content/uploads/2026/01/taempl-Capoeira-Show.png
ORGANIZER;CN="taempl GbR":MAILTO:kontakt@taempl.de
END:VEVENT
BEGIN:VEVENT
DTSTART;TZID=Europe/Berlin:20260422T130000
DTEND;TZID=Europe/Berlin:20260422T150000
DTSTAMP:20260425T174749
CREATED:20260405T220551Z
LAST-MODIFIED:20260425T130044Z
UID:10002233-1776862800-1776870000@taempl.de
SUMMARY:Susi
DESCRIPTION:
URL:https://taempl.de/kalender-eintrag/susi/2026-04-22/
CATEGORIES:Einzelraum,Intern
END:VEVENT
BEGIN:VEVENT
DTSTART;TZID=Europe/Berlin:20260422T143000
DTEND;TZID=Europe/Berlin:20260422T170000
DTSTAMP:20260425T174749
CREATED:20260405T222016Z
LAST-MODIFIED:20260405T222040Z
UID:10002499-1776868200-1776877200@taempl.de
SUMMARY:open tæmpl
DESCRIPTION:Wir öffnen unsere Türen und laden herzlich ein\, euch im tæmpl zu treffen. \nTee steht bereit und ihr könnt es euch in unserem Workshopraum gemütlich machen\, ein Buch lesen\, ausruhen. \nWas auch immer du gerade brauchst. \nJeden Montag von 10:30-11:30 \nJeden zweiten und vierten Mittwoch von 14:30 – 17:00 \nJeden ersten und dritten Donnerstag von 9:30 – 11:00
URL:https://taempl.de/kalender-eintrag/open-taempl-2/2026-04-22/
LOCATION:tæmpl\, Weißenfelserstraße 11\, Leipzig\, Sachsen\, 04229\, Germany
CATEGORIES:Intern,Öffentlich,Workshopraum
ATTACH;FMTTYPE=image/png:https://taempl.de/wp-content/uploads/2026/04/taempl-open-taempl.png
ORGANIZER;CN="taempl GbR":MAILTO:kontakt@taempl.de
END:VEVENT
BEGIN:VEVENT
DTSTART;TZID=Europe/Berlin:20260423T100000
DTEND;TZID=Europe/Berlin:20260423T113000
DTSTAMP:20260425T174749
CREATED:20260418T141011Z
LAST-MODIFIED:20260418T141011Z
UID:10003390-1776938400-1776943800@taempl.de
SUMMARY:Kereen
DESCRIPTION:
URL:https://taempl.de/kalender-eintrag/kereen-6/
CATEGORIES:Einzelraum,Intern
END:VEVENT
BEGIN:VEVENT
DTSTART;TZID=Europe/Berlin:20260423T173000
DTEND;TZID=Europe/Berlin:20260423T200000
DTSTAMP:20260425T174749
CREATED:20260202T163304Z
LAST-MODIFIED:20260310T102629Z
UID:10001442-1776965400-1776974400@taempl.de
SUMMARY:Heilhalten mit Mandy
DESCRIPTION:Heilhalten – ein Raum für Loslassen\, Halten und Gehalten sein\, in Verbindung und Sicherheit.\nFinde Ruhe und Geborgenheit\, tanke neue Energie fühle die Sicherheit in deinen Zellen. \n\nGehalten sein\, ist ein zutiefst natürliches menschliches Bedürfnis\, das in unserer technisierten Welt oft nicht\nerfüllt wird. Deine Bedürfnisse nach Nähe\, Geborgenheit\, Schutz\, Wärme und emotionaler Zugehörigkeit\nwerden endlich gestillt. In dieser Sicherheit gewogen bist du in der Lage autonom zu Sein\, selbstbestimmt\nund authentisch zu handeln.\nIn diesem sicheren HeilRaum kannst du dich gesehen fühlen – ganz ohne Bewertung. In kleiner Frauengruppe\nfindest du deinen Raum zum Geben & Empfangen. Du kannst die Erfahrung ganz für dich in deine Zellen auf-\nund mitnehmen und es gibt auch die Möglichkeit für Austausch\, wenn du magst.\n\nBitte komme in bequemer Kleidung\, oder ziehe dich vor Ort um (bitte die Zeit vor dem Beginn einplanen\, damit wir pünktlich starten können).\nMaximal 8 Plätze\, nur mit verbindlicher Anmeldung herzliebe@posteo.com\n\nAls profilax®-Trainerin\, ausgebildet in körper- und emotionsfokussierter Aufstellungsarbeit\, systemischer Coach \n& HP für Psychotherapie (o.A.) begleite ich dich traumasensibel und mit Herz.\n\nIch freue mich auf dich.\n\n 
URL:https://taempl.de/kalender-eintrag/heilhalten-mit-mandy/2026-04-23/
LOCATION:tæmpl\, Weißenfelserstraße 11\, Leipzig\, Sachsen\, 04229\, Germany
CATEGORIES:Intern,Öffentlich,Workshopraum
ATTACH;FMTTYPE=image/png:https://taempl.de/wp-content/uploads/2026/02/taempl-Mandy-1.png
ORGANIZER;CN="Mandy Schulten":MAILTO:herzliebe@posteo.com
END:VEVENT
BEGIN:VEVENT
DTSTART;TZID=Europe/Berlin:20260424T160000
DTEND;TZID=Europe/Berlin:20260424T190000
DTSTAMP:20260425T174749
CREATED:20260212T080805Z
LAST-MODIFIED:20260423T193712Z
UID:10001215-1777046400-1777057200@taempl.de
SUMMARY:HerzRaum mit Maria
DESCRIPTION:HerzRaum \n1. Termin > Thema Klärung und Ausrichtung\, wir machen ein tiefes und ganzheitliches Reinigungsritual und innere Reise \nAusblick: \n2. ⁠Termin > LiebesFähigkeit und Bewegung\n3. ⁠Termin > Übergang und Regulation\n4. ⁠Termin > Genuss und Freude\n5. ⁠… \nWann: letzter Freitag im Monat \nPreis: 40€ \nZeit: 16:00-19:00 Uhr \nElemente: Übungen für HerzÖffnung und -Kontakt\, RosenKakao\, Sharing/ Schreiben\, TRE\, kl.Aufstellungsarbeit\, Tanz\, Malen\, Tiefenentspannung\, Berührung\, Gesang.\nRaum für DICH. \nJeder HERZRAUM entsteht im Moment\, sodass die jeweiligen Elemente durch die individuelle Qualität und Dynamik der Gruppe Platz finden. \nDie Ausrichtung der neuen Reihe ist den Weg zu dir selbst noch klarer zu finden und zu gehen. Deine Wahrheit zu hören und zu zu kultivieren als Basis für heilsamen Kontakt in Beziehung zum Leben! Hierbei gehen wir zusammen und nutzen die Kraft der Gruppe als Verstärker für Bewusstsein und Regulation! \nIch freue mich sehr euch wieder zu sehen und gemeinsam abzutauchen\, zu forschen\, auf Begegnung und echten Kontakt außerhalb der Prägungen – Kontakt im HerzRaum – dort beginnt ein neues Leben! \nAnmeldung: https://t.me/+b5ThTUD8OaM4OGQx \nEure Maria
URL:https://taempl.de/kalender-eintrag/herzraum-mit-maria/2026-04-24/
LOCATION:tæmpl\, Weißenfelserstraße 11\, Leipzig\, Sachsen\, 04229\, Germany
CATEGORIES:Intern,Öffentlich,Workshopraum
ATTACH;FMTTYPE=image/png:https://taempl.de/wp-content/uploads/2026/02/taempl-Herzraum.png
END:VEVENT
BEGIN:VEVENT
DTSTART;TZID=Europe/Berlin:20260425T100000
DTEND;TZID=Europe/Berlin:20260425T140000
DTSTAMP:20260425T174749
CREATED:20260417T142502Z
LAST-MODIFIED:20260417T142614Z
UID:10003124-1777111200-1777125600@taempl.de
SUMMARY:Mother Blessing Elisa
DESCRIPTION:
URL:https://taempl.de/kalender-eintrag/mother-blessing-elisa/
CATEGORIES:Intern,Workshopraum
END:VEVENT
BEGIN:VEVENT
DTSTART;TZID=Europe/Berlin:20260425T160000
DTEND;TZID=Europe/Berlin:20260425T180000
DTSTAMP:20260425T174749
CREATED:20260405T142202Z
LAST-MODIFIED:20260405T142324Z
UID:10002224-1777132800-1777140000@taempl.de
SUMMARY:FEMININE WAYS - Stärke deine Wurzeln. Verkörpere deine Größe mit Johanna
DESCRIPTION:In diesem Frauenkreis stärkst du das\, was längst in dir ist: deine\nRessourcen\, deine innere Sicherheit und deine weibliche Kraft. \nDu tauchst aus dem Kopf zurück in deinen Körper und verbindest dich mit\ndeiner Gebärmutter als Quelle von Intuition\, Halt und Klarheit. Hier\nentsteht echte Selbstverbindung – die Basis für Selbstvertrauen\, gesunde\nGrenzen und authentische Entscheidungen. \nJeder Kreis widmet sich einem kraftvollen Thema wie Selbstwert\, innere\nSicherheit oder Gebärmutterkraft – und schenkt dir einen geschützten\nRaum\, in dem du dich spüren\, regulieren und aufrichten kannst. \nFür dich\, wenn du: \n*mehr Ruhe in deinem Nervensystem brauchst\n*deiner Intuition vertrauen willst\n*dich selbstbewusst zeigen und deinen Raum einnehmen möchtest\n*deine weibliche Kraft bewusst leben willst \nEin Fühlraum unter Frauen. Echt. Wertfrei. Stärkend. \nInvestition:\nEinzelticket: 35€\nSisterticket: 55€ (für dich & eine Freundin) \nWann & Wo: taempl Leipzig\, Weißenfelser Straße 11 25.4. 16:00-18:00\nAnmeldung hier:\nhttps://www.frauenbegleitung-leipzig.de/service-page/feminine-ways-25-4-16-00-18-00?referral=service_list_widget \nKomm in den Kreis – deine Zeit ist jetzt. \nIn würdevoller Vorfreude & liebevoller Anerkennung –\ndeine Johanna
URL:https://taempl.de/kalender-eintrag/feminine-ways-staerke-deine-wurzeln-verkoerpere-deine-groesse-mit-johanna/
LOCATION:tæmpl\, Weißenfelserstraße 11\, Leipzig\, Sachsen\, 04229\, Germany
CATEGORIES:Intern,Öffentlich,Workshopraum
ATTACH;FMTTYPE=image/png:https://taempl.de/wp-content/uploads/2026/04/taempl-feminine-ways.png
END:VEVENT
BEGIN:VEVENT
DTSTART;TZID=Europe/Berlin:20260426T100000
DTEND;TZID=Europe/Berlin:20260426T140000
DTSTAMP:20260425T174749
CREATED:20260417T142918Z
LAST-MODIFIED:20260417T142918Z
UID:10003125-1777197600-1777212000@taempl.de
SUMMARY:Ado+Richard
DESCRIPTION:
URL:https://taempl.de/kalender-eintrag/adorichard/
CATEGORIES:Intern,Workshopraum
END:VEVENT
BEGIN:VEVENT
DTSTART;TZID=Europe/Berlin:20260426T170000
DTEND;TZID=Europe/Berlin:20260426T200000
DTSTAMP:20260425T174749
CREATED:20260409T154851Z
LAST-MODIFIED:20260414T141528Z
UID:10003111-1777222800-1777233600@taempl.de
SUMMARY:Sema – Somatic Exploration in Movement and Awareness mit Meike
DESCRIPTION:Sema lädt Dich ein\, den Alltagsmodus hinter dir zu lassen und ganz in deinem Körper zu landen. Wir starten mit Embodiment-Übungen (Bewegung und Körperwahrnehmung) aus der Körperarbeit\, die fließend in freien Tanz übergehen.\nEs geht nicht darum einer Choreografie zu folgen\, vielmehr darum\, dir selbst und dem Raum zuzuhören:\nWas möchte sich in diesem Moment entfalten?\nDein Tanz kann dabei ganz unterschiedliche Formen annehmen – ob du am Boden rollst\, winzigen inneren Bewegungen nachspürst oder wild durch den Raum wirbelst.\nGemeinsam Tanzen im Kontakt mit anderen ist dabei auf Basis von Konsens herzlich willkommen\, aber kein Muss – du kannst ebenso gut die ganze Zeit ganz bei dir und für dich tanzen.\nBegleitet von einer Musikauswahl\, die sanfte und kraftvolle Elemente vereint erschaffen wir einen Ort der Entfaltung.\nVorkenntnisse sind nicht nötig. Komm einfach\, wie du bist\, und lass dich bewegen.\n \n\nOffen für all (grown up) gender*\n\nAnmeldung mit einer kurzen Nachricht bei Meike\n💌kontakt@meikeweber.de\n💌0178-4576011\n  \n 
URL:https://taempl.de/kalender-eintrag/event-mit-meike/
LOCATION:tæmpl\, Weißenfelserstraße 11\, Leipzig\, Sachsen\, 04229\, Germany
CATEGORIES:Intern,Öffentlich,Workshopraum
ATTACH;FMTTYPE=image/png:https://taempl.de/wp-content/uploads/2026/04/taempl-sema-.png
END:VEVENT
END:VCALENDAR