BEGIN:VCALENDAR
VERSION:2.0
PRODID:-//taempl Leipzig - ECPv6.15.20//NONSGML v1.0//EN
CALSCALE:GREGORIAN
METHOD:PUBLISH
X-ORIGINAL-URL:https://taempl.de
X-WR-CALDESC:Veranstaltungen für taempl Leipzig
REFRESH-INTERVAL;VALUE=DURATION:PT1H
X-Robots-Tag:noindex
X-PUBLISHED-TTL:PT1H
BEGIN:VTIMEZONE
TZID:Europe/Berlin
BEGIN:DAYLIGHT
TZOFFSETFROM:+0100
TZOFFSETTO:+0200
TZNAME:CEST
DTSTART:20250330T010000
END:DAYLIGHT
BEGIN:STANDARD
TZOFFSETFROM:+0200
TZOFFSETTO:+0100
TZNAME:CET
DTSTART:20251026T010000
END:STANDARD
BEGIN:DAYLIGHT
TZOFFSETFROM:+0100
TZOFFSETTO:+0200
TZNAME:CEST
DTSTART:20260329T010000
END:DAYLIGHT
BEGIN:STANDARD
TZOFFSETFROM:+0200
TZOFFSETTO:+0100
TZNAME:CET
DTSTART:20261025T010000
END:STANDARD
BEGIN:DAYLIGHT
TZOFFSETFROM:+0100
TZOFFSETTO:+0200
TZNAME:CEST
DTSTART:20270328T010000
END:DAYLIGHT
BEGIN:STANDARD
TZOFFSETFROM:+0200
TZOFFSETTO:+0100
TZNAME:CET
DTSTART:20271031T010000
END:STANDARD
END:VTIMEZONE
BEGIN:VEVENT
DTSTART;TZID=Europe/Berlin:20260427T180000
DTEND;TZID=Europe/Berlin:20260427T200000
DTSTAMP:20260420T051525
CREATED:20260218T131021Z
LAST-MODIFIED:20260402T111123Z
UID:10000696-1777312800-1777320000@taempl.de
SUMMARY:Klub der 1000 Tränen mit Anna-Doreen
DESCRIPTION:Wir kommen zusammen\, um bewusst zu trauern\, egal was das für dich bedeutet. Hier ist Raum für deine Geschichte. Wir können in schönen Erinnerungen schwelgen und uns lustige Geschichten erzählen.\nVielleicht sind da 1000 Tränen\, die geweint werden wollen oder Leere\, die bezeugt werden will. Wir teilen das Vermissen\, die Traurigkeit und den Schmerz. Und manchmal\, da schweigen wir einfach nur. Gemeinsam. Gehalten im Kreis. \n27.04. Thema: Sternenkinder & Fehlgeburt \n04.05. Thema: Verlusterfahrungen – Tod\, Trauer & Abschied \n08.06. Thema: selbstgewählter Schwangerschaftsabbruch
URL:https://taempl.de/kalender-eintrag/klub-der-1000-traenen-mit-anna-doreen/2026-04-27/
LOCATION:tæmpl\, Weißenfelserstraße 11\, Leipzig\, Sachsen\, 04229\, Germany
CATEGORIES:Intern,Öffentlich,Workshopraum
ATTACH;FMTTYPE=image/jpeg:https://taempl.de/wp-content/uploads/2024/12/taempl-Klub-der-1000-Traenen.jpg
ORGANIZER;CN="taempl GbR":MAILTO:kontakt@taempl.de
END:VEVENT
END:VCALENDAR