BEGIN:VCALENDAR
VERSION:2.0
PRODID:-//taempl Leipzig - ECPv6.15.20//NONSGML v1.0//EN
CALSCALE:GREGORIAN
METHOD:PUBLISH
X-WR-CALNAME:taempl Leipzig
X-ORIGINAL-URL:https://taempl.de
X-WR-CALDESC:Veranstaltungen für taempl Leipzig
REFRESH-INTERVAL;VALUE=DURATION:PT1H
X-Robots-Tag:noindex
X-PUBLISHED-TTL:PT1H
BEGIN:VTIMEZONE
TZID:Europe/Berlin
BEGIN:DAYLIGHT
TZOFFSETFROM:+0100
TZOFFSETTO:+0200
TZNAME:CEST
DTSTART:20250330T010000
END:DAYLIGHT
BEGIN:STANDARD
TZOFFSETFROM:+0200
TZOFFSETTO:+0100
TZNAME:CET
DTSTART:20251026T010000
END:STANDARD
BEGIN:DAYLIGHT
TZOFFSETFROM:+0100
TZOFFSETTO:+0200
TZNAME:CEST
DTSTART:20260329T010000
END:DAYLIGHT
BEGIN:STANDARD
TZOFFSETFROM:+0200
TZOFFSETTO:+0100
TZNAME:CET
DTSTART:20261025T010000
END:STANDARD
BEGIN:DAYLIGHT
TZOFFSETFROM:+0100
TZOFFSETTO:+0200
TZNAME:CEST
DTSTART:20270328T010000
END:DAYLIGHT
BEGIN:STANDARD
TZOFFSETFROM:+0200
TZOFFSETTO:+0100
TZNAME:CET
DTSTART:20271031T010000
END:STANDARD
END:VTIMEZONE
BEGIN:VEVENT
DTSTART;TZID=Europe/Berlin:20260420T103000
DTEND;TZID=Europe/Berlin:20260420T130000
DTSTAMP:20260419T183802
CREATED:20260417T150816Z
LAST-MODIFIED:20260417T150816Z
UID:10003127-1776681000-1776690000@taempl.de
SUMMARY:Teamsitzung
DESCRIPTION:
URL:https://taempl.de/kalender-eintrag/teamsitzung-2/2026-04-20/
CATEGORIES:Einzelraum,Intern
END:VEVENT
BEGIN:VEVENT
DTSTART;TZID=Europe/Berlin:20260427T103000
DTEND;TZID=Europe/Berlin:20260427T130000
DTSTAMP:20260419T183802
CREATED:20260417T150816Z
LAST-MODIFIED:20260417T150816Z
UID:10003128-1777285800-1777294800@taempl.de
SUMMARY:Teamsitzung
DESCRIPTION:
URL:https://taempl.de/kalender-eintrag/teamsitzung-2/2026-04-27/
CATEGORIES:Einzelraum,Intern
END:VEVENT
BEGIN:VEVENT
DTSTART;TZID=Europe/Berlin:20260504T103000
DTEND;TZID=Europe/Berlin:20260504T130000
DTSTAMP:20260419T183802
CREATED:20260417T150816Z
LAST-MODIFIED:20260417T150816Z
UID:10003129-1777890600-1777899600@taempl.de
SUMMARY:Teamsitzung
DESCRIPTION:
URL:https://taempl.de/kalender-eintrag/teamsitzung-2/2026-05-04/
CATEGORIES:Einzelraum,Intern
END:VEVENT
BEGIN:VEVENT
DTSTART;TZID=Europe/Berlin:20260511T103000
DTEND;TZID=Europe/Berlin:20260511T130000
DTSTAMP:20260419T183802
CREATED:20260417T150816Z
LAST-MODIFIED:20260417T150816Z
UID:10003130-1778495400-1778504400@taempl.de
SUMMARY:Teamsitzung
DESCRIPTION:
URL:https://taempl.de/kalender-eintrag/teamsitzung-2/2026-05-11/
CATEGORIES:Einzelraum,Intern
END:VEVENT
BEGIN:VEVENT
DTSTART;TZID=Europe/Berlin:20260518T103000
DTEND;TZID=Europe/Berlin:20260518T130000
DTSTAMP:20260419T183802
CREATED:20260417T150816Z
LAST-MODIFIED:20260417T150816Z
UID:10003131-1779100200-1779109200@taempl.de
SUMMARY:Teamsitzung
DESCRIPTION:
URL:https://taempl.de/kalender-eintrag/teamsitzung-2/2026-05-18/
CATEGORIES:Einzelraum,Intern
END:VEVENT
BEGIN:VEVENT
DTSTART;TZID=Europe/Berlin:20260525T103000
DTEND;TZID=Europe/Berlin:20260525T130000
DTSTAMP:20260419T183802
CREATED:20260417T150816Z
LAST-MODIFIED:20260417T150816Z
UID:10003132-1779705000-1779714000@taempl.de
SUMMARY:Teamsitzung
DESCRIPTION:
URL:https://taempl.de/kalender-eintrag/teamsitzung-2/2026-05-25/
CATEGORIES:Einzelraum,Intern
END:VEVENT
BEGIN:VEVENT
DTSTART;TZID=Europe/Berlin:20260601T103000
DTEND;TZID=Europe/Berlin:20260601T130000
DTSTAMP:20260419T183802
CREATED:20260417T150816Z
LAST-MODIFIED:20260417T150816Z
UID:10003133-1780309800-1780318800@taempl.de
SUMMARY:Teamsitzung
DESCRIPTION:
URL:https://taempl.de/kalender-eintrag/teamsitzung-2/2026-06-01/
CATEGORIES:Einzelraum,Intern
END:VEVENT
BEGIN:VEVENT
DTSTART;TZID=Europe/Berlin:20260608T103000
DTEND;TZID=Europe/Berlin:20260608T130000
DTSTAMP:20260419T183802
CREATED:20260417T150816Z
LAST-MODIFIED:20260417T150816Z
UID:10003134-1780914600-1780923600@taempl.de
SUMMARY:Teamsitzung
DESCRIPTION:
URL:https://taempl.de/kalender-eintrag/teamsitzung-2/2026-06-08/
CATEGORIES:Einzelraum,Intern
END:VEVENT
BEGIN:VEVENT
DTSTART;TZID=Europe/Berlin:20260615T103000
DTEND;TZID=Europe/Berlin:20260615T130000
DTSTAMP:20260419T183802
CREATED:20260417T150816Z
LAST-MODIFIED:20260417T150816Z
UID:10003135-1781519400-1781528400@taempl.de
SUMMARY:Teamsitzung
DESCRIPTION:
URL:https://taempl.de/kalender-eintrag/teamsitzung-2/2026-06-15/
CATEGORIES:Einzelraum,Intern
END:VEVENT
BEGIN:VEVENT
DTSTART;TZID=Europe/Berlin:20260622T103000
DTEND;TZID=Europe/Berlin:20260622T130000
DTSTAMP:20260419T183802
CREATED:20260417T150816Z
LAST-MODIFIED:20260417T150816Z
UID:10003136-1782124200-1782133200@taempl.de
SUMMARY:Teamsitzung
DESCRIPTION:
URL:https://taempl.de/kalender-eintrag/teamsitzung-2/2026-06-22/
CATEGORIES:Einzelraum,Intern
END:VEVENT
BEGIN:VEVENT
DTSTART;TZID=Europe/Berlin:20260629T103000
DTEND;TZID=Europe/Berlin:20260629T130000
DTSTAMP:20260419T183802
CREATED:20260417T150816Z
LAST-MODIFIED:20260417T150816Z
UID:10003137-1782729000-1782738000@taempl.de
SUMMARY:Teamsitzung
DESCRIPTION:
URL:https://taempl.de/kalender-eintrag/teamsitzung-2/2026-06-29/
CATEGORIES:Einzelraum,Intern
END:VEVENT
BEGIN:VEVENT
DTSTART;TZID=Europe/Berlin:20260706T103000
DTEND;TZID=Europe/Berlin:20260706T130000
DTSTAMP:20260419T183802
CREATED:20260417T150816Z
LAST-MODIFIED:20260417T150816Z
UID:10003138-1783333800-1783342800@taempl.de
SUMMARY:Teamsitzung
DESCRIPTION:
URL:https://taempl.de/kalender-eintrag/teamsitzung-2/2026-07-06/
CATEGORIES:Einzelraum,Intern
END:VEVENT
BEGIN:VEVENT
DTSTART;TZID=Europe/Berlin:20260713T103000
DTEND;TZID=Europe/Berlin:20260713T130000
DTSTAMP:20260419T183802
CREATED:20260417T150816Z
LAST-MODIFIED:20260417T150816Z
UID:10003139-1783938600-1783947600@taempl.de
SUMMARY:Teamsitzung
DESCRIPTION:
URL:https://taempl.de/kalender-eintrag/teamsitzung-2/2026-07-13/
CATEGORIES:Einzelraum,Intern
END:VEVENT
BEGIN:VEVENT
DTSTART;TZID=Europe/Berlin:20260720T103000
DTEND;TZID=Europe/Berlin:20260720T130000
DTSTAMP:20260419T183802
CREATED:20260417T150816Z
LAST-MODIFIED:20260417T150816Z
UID:10003140-1784543400-1784552400@taempl.de
SUMMARY:Teamsitzung
DESCRIPTION:
URL:https://taempl.de/kalender-eintrag/teamsitzung-2/2026-07-20/
CATEGORIES:Einzelraum,Intern
END:VEVENT
BEGIN:VEVENT
DTSTART;TZID=Europe/Berlin:20260727T103000
DTEND;TZID=Europe/Berlin:20260727T130000
DTSTAMP:20260419T183802
CREATED:20260417T150816Z
LAST-MODIFIED:20260417T150816Z
UID:10003141-1785148200-1785157200@taempl.de
SUMMARY:Teamsitzung
DESCRIPTION:
URL:https://taempl.de/kalender-eintrag/teamsitzung-2/2026-07-27/
CATEGORIES:Einzelraum,Intern
END:VEVENT
BEGIN:VEVENT
DTSTART;TZID=Europe/Berlin:20260803T103000
DTEND;TZID=Europe/Berlin:20260803T130000
DTSTAMP:20260419T183802
CREATED:20260417T150816Z
LAST-MODIFIED:20260417T150816Z
UID:10003142-1785753000-1785762000@taempl.de
SUMMARY:Teamsitzung
DESCRIPTION:
URL:https://taempl.de/kalender-eintrag/teamsitzung-2/2026-08-03/
CATEGORIES:Einzelraum,Intern
END:VEVENT
BEGIN:VEVENT
DTSTART;TZID=Europe/Berlin:20260810T103000
DTEND;TZID=Europe/Berlin:20260810T130000
DTSTAMP:20260419T183802
CREATED:20260417T150816Z
LAST-MODIFIED:20260417T150816Z
UID:10003143-1786357800-1786366800@taempl.de
SUMMARY:Teamsitzung
DESCRIPTION:
URL:https://taempl.de/kalender-eintrag/teamsitzung-2/2026-08-10/
CATEGORIES:Einzelraum,Intern
END:VEVENT
BEGIN:VEVENT
DTSTART;TZID=Europe/Berlin:20260817T103000
DTEND;TZID=Europe/Berlin:20260817T130000
DTSTAMP:20260419T183802
CREATED:20260417T150816Z
LAST-MODIFIED:20260417T150816Z
UID:10003144-1786962600-1786971600@taempl.de
SUMMARY:Teamsitzung
DESCRIPTION:
URL:https://taempl.de/kalender-eintrag/teamsitzung-2/2026-08-17/
CATEGORIES:Einzelraum,Intern
END:VEVENT
BEGIN:VEVENT
DTSTART;TZID=Europe/Berlin:20260824T103000
DTEND;TZID=Europe/Berlin:20260824T130000
DTSTAMP:20260419T183802
CREATED:20260417T150816Z
LAST-MODIFIED:20260417T150816Z
UID:10003145-1787567400-1787576400@taempl.de
SUMMARY:Teamsitzung
DESCRIPTION:
URL:https://taempl.de/kalender-eintrag/teamsitzung-2/2026-08-24/
CATEGORIES:Einzelraum,Intern
END:VEVENT
BEGIN:VEVENT
DTSTART;TZID=Europe/Berlin:20260831T103000
DTEND;TZID=Europe/Berlin:20260831T130000
DTSTAMP:20260419T183802
CREATED:20260417T150816Z
LAST-MODIFIED:20260417T150816Z
UID:10003146-1788172200-1788181200@taempl.de
SUMMARY:Teamsitzung
DESCRIPTION:
URL:https://taempl.de/kalender-eintrag/teamsitzung-2/2026-08-31/
CATEGORIES:Einzelraum,Intern
END:VEVENT
BEGIN:VEVENT
DTSTART;TZID=Europe/Berlin:20260907T103000
DTEND;TZID=Europe/Berlin:20260907T130000
DTSTAMP:20260419T183802
CREATED:20260417T150816Z
LAST-MODIFIED:20260417T150816Z
UID:10003147-1788777000-1788786000@taempl.de
SUMMARY:Teamsitzung
DESCRIPTION:
URL:https://taempl.de/kalender-eintrag/teamsitzung-2/2026-09-07/
CATEGORIES:Einzelraum,Intern
END:VEVENT
BEGIN:VEVENT
DTSTART;TZID=Europe/Berlin:20260914T103000
DTEND;TZID=Europe/Berlin:20260914T130000
DTSTAMP:20260419T183802
CREATED:20260417T150816Z
LAST-MODIFIED:20260417T150816Z
UID:10003148-1789381800-1789390800@taempl.de
SUMMARY:Teamsitzung
DESCRIPTION:
URL:https://taempl.de/kalender-eintrag/teamsitzung-2/2026-09-14/
CATEGORIES:Einzelraum,Intern
END:VEVENT
BEGIN:VEVENT
DTSTART;TZID=Europe/Berlin:20260921T103000
DTEND;TZID=Europe/Berlin:20260921T130000
DTSTAMP:20260419T183802
CREATED:20260417T150816Z
LAST-MODIFIED:20260417T150816Z
UID:10003149-1789986600-1789995600@taempl.de
SUMMARY:Teamsitzung
DESCRIPTION:
URL:https://taempl.de/kalender-eintrag/teamsitzung-2/2026-09-21/
CATEGORIES:Einzelraum,Intern
END:VEVENT
BEGIN:VEVENT
DTSTART;TZID=Europe/Berlin:20260928T103000
DTEND;TZID=Europe/Berlin:20260928T130000
DTSTAMP:20260419T183802
CREATED:20260417T150816Z
LAST-MODIFIED:20260417T150816Z
UID:10003150-1790591400-1790600400@taempl.de
SUMMARY:Teamsitzung
DESCRIPTION:
URL:https://taempl.de/kalender-eintrag/teamsitzung-2/2026-09-28/
CATEGORIES:Einzelraum,Intern
END:VEVENT
BEGIN:VEVENT
DTSTART;TZID=Europe/Berlin:20261005T103000
DTEND;TZID=Europe/Berlin:20261005T130000
DTSTAMP:20260419T183802
CREATED:20260417T150816Z
LAST-MODIFIED:20260417T150816Z
UID:10003151-1791196200-1791205200@taempl.de
SUMMARY:Teamsitzung
DESCRIPTION:
URL:https://taempl.de/kalender-eintrag/teamsitzung-2/2026-10-05/
CATEGORIES:Einzelraum,Intern
END:VEVENT
BEGIN:VEVENT
DTSTART;TZID=Europe/Berlin:20261012T103000
DTEND;TZID=Europe/Berlin:20261012T130000
DTSTAMP:20260419T183802
CREATED:20260417T150816Z
LAST-MODIFIED:20260417T150816Z
UID:10003152-1791801000-1791810000@taempl.de
SUMMARY:Teamsitzung
DESCRIPTION:
URL:https://taempl.de/kalender-eintrag/teamsitzung-2/2026-10-12/
CATEGORIES:Einzelraum,Intern
END:VEVENT
BEGIN:VEVENT
DTSTART;TZID=Europe/Berlin:20261019T103000
DTEND;TZID=Europe/Berlin:20261019T130000
DTSTAMP:20260419T183802
CREATED:20260417T150816Z
LAST-MODIFIED:20260417T150816Z
UID:10003153-1792405800-1792414800@taempl.de
SUMMARY:Teamsitzung
DESCRIPTION:
URL:https://taempl.de/kalender-eintrag/teamsitzung-2/2026-10-19/
CATEGORIES:Einzelraum,Intern
END:VEVENT
BEGIN:VEVENT
DTSTART;TZID=Europe/Berlin:20261026T103000
DTEND;TZID=Europe/Berlin:20261026T130000
DTSTAMP:20260419T183802
CREATED:20260417T150816Z
LAST-MODIFIED:20260417T150816Z
UID:10003154-1793010600-1793019600@taempl.de
SUMMARY:Teamsitzung
DESCRIPTION:
URL:https://taempl.de/kalender-eintrag/teamsitzung-2/2026-10-26/
CATEGORIES:Einzelraum,Intern
END:VEVENT
BEGIN:VEVENT
DTSTART;TZID=Europe/Berlin:20261102T103000
DTEND;TZID=Europe/Berlin:20261102T130000
DTSTAMP:20260419T183802
CREATED:20260417T150816Z
LAST-MODIFIED:20260417T150816Z
UID:10003155-1793615400-1793624400@taempl.de
SUMMARY:Teamsitzung
DESCRIPTION:
URL:https://taempl.de/kalender-eintrag/teamsitzung-2/2026-11-02/
CATEGORIES:Einzelraum,Intern
END:VEVENT
BEGIN:VEVENT
DTSTART;TZID=Europe/Berlin:20261109T103000
DTEND;TZID=Europe/Berlin:20261109T130000
DTSTAMP:20260419T183802
CREATED:20260417T150816Z
LAST-MODIFIED:20260417T150816Z
UID:10003156-1794220200-1794229200@taempl.de
SUMMARY:Teamsitzung
DESCRIPTION:
URL:https://taempl.de/kalender-eintrag/teamsitzung-2/2026-11-09/
CATEGORIES:Einzelraum,Intern
END:VEVENT
END:VCALENDAR