BEGIN:VCALENDAR
VERSION:2.0
PRODID:-//taempl Leipzig - ECPv6.15.20//NONSGML v1.0//EN
CALSCALE:GREGORIAN
METHOD:PUBLISH
X-WR-CALNAME:taempl Leipzig
X-ORIGINAL-URL:https://taempl.de
X-WR-CALDESC:Veranstaltungen für taempl Leipzig
REFRESH-INTERVAL;VALUE=DURATION:PT1H
X-Robots-Tag:noindex
X-PUBLISHED-TTL:PT1H
BEGIN:VTIMEZONE
TZID:Europe/Berlin
BEGIN:DAYLIGHT
TZOFFSETFROM:+0100
TZOFFSETTO:+0200
TZNAME:CEST
DTSTART:20250330T010000
END:DAYLIGHT
BEGIN:STANDARD
TZOFFSETFROM:+0200
TZOFFSETTO:+0100
TZNAME:CET
DTSTART:20251026T010000
END:STANDARD
BEGIN:DAYLIGHT
TZOFFSETFROM:+0100
TZOFFSETTO:+0200
TZNAME:CEST
DTSTART:20260329T010000
END:DAYLIGHT
BEGIN:STANDARD
TZOFFSETFROM:+0200
TZOFFSETTO:+0100
TZNAME:CET
DTSTART:20261025T010000
END:STANDARD
BEGIN:DAYLIGHT
TZOFFSETFROM:+0100
TZOFFSETTO:+0200
TZNAME:CEST
DTSTART:20270328T010000
END:DAYLIGHT
BEGIN:STANDARD
TZOFFSETFROM:+0200
TZOFFSETTO:+0100
TZNAME:CET
DTSTART:20271031T010000
END:STANDARD
END:VTIMEZONE
BEGIN:VEVENT
DTSTART;TZID=Europe/Berlin:20261107T140000
DTEND;TZID=Europe/Berlin:20261107T180000
DTSTAMP:20260426T025648
CREATED:20260414T105008Z
LAST-MODIFIED:20260414T105008Z
UID:10003115-1794060000-1794074400@taempl.de
SUMMARY:Sterneneltern - ein Workshop für Paare
DESCRIPTION:Ein Nachmittag für Paare und Eltern von Sternenkindern\, mit Anna-Doreen & Jonas. \n 
URL:https://taempl.de/kalender-eintrag/sterneneltern-ein-workshop-fuer-paare/2026-11-07/
LOCATION:tæmpl\, Weißenfelserstraße 11\, Leipzig\, Sachsen\, 04229\, Germany
CATEGORIES:Intern,Öffentlich,Workshopraum
END:VEVENT
BEGIN:VEVENT
DTSTART;TZID=Europe/Berlin:20261128T080000
DTEND;TZID=Europe/Berlin:20261128T170000
DTSTAMP:20260426T025648
CREATED:20260414T105008Z
LAST-MODIFIED:20260414T105008Z
UID:10003116-1795852800-1795885200@taempl.de
SUMMARY:Sterneneltern - ein Workshop für Paare
DESCRIPTION:Ein Nachmittag für Paare und Eltern von Sternenkindern\, mit Anna-Doreen & Jonas. \n 
URL:https://taempl.de/kalender-eintrag/sterneneltern-ein-workshop-fuer-paare/2026-11-28/
LOCATION:tæmpl\, Weißenfelserstraße 11\, Leipzig\, Sachsen\, 04229\, Germany
CATEGORIES:Intern,Öffentlich,Workshopraum
END:VEVENT
END:VCALENDAR