BEGIN:VCALENDAR
VERSION:2.0
PRODID:-//taempl Leipzig - ECPv6.15.20//NONSGML v1.0//EN
CALSCALE:GREGORIAN
METHOD:PUBLISH
X-WR-CALNAME:taempl Leipzig
X-ORIGINAL-URL:https://taempl.de
X-WR-CALDESC:Veranstaltungen für taempl Leipzig
REFRESH-INTERVAL;VALUE=DURATION:PT1H
X-Robots-Tag:noindex
X-PUBLISHED-TTL:PT1H
BEGIN:VTIMEZONE
TZID:Europe/Berlin
BEGIN:DAYLIGHT
TZOFFSETFROM:+0100
TZOFFSETTO:+0200
TZNAME:CEST
DTSTART:20250330T010000
END:DAYLIGHT
BEGIN:STANDARD
TZOFFSETFROM:+0200
TZOFFSETTO:+0100
TZNAME:CET
DTSTART:20251026T010000
END:STANDARD
BEGIN:DAYLIGHT
TZOFFSETFROM:+0100
TZOFFSETTO:+0200
TZNAME:CEST
DTSTART:20260329T010000
END:DAYLIGHT
BEGIN:STANDARD
TZOFFSETFROM:+0200
TZOFFSETTO:+0100
TZNAME:CET
DTSTART:20261025T010000
END:STANDARD
BEGIN:DAYLIGHT
TZOFFSETFROM:+0100
TZOFFSETTO:+0200
TZNAME:CEST
DTSTART:20270328T010000
END:DAYLIGHT
BEGIN:STANDARD
TZOFFSETFROM:+0200
TZOFFSETTO:+0100
TZNAME:CET
DTSTART:20271031T010000
END:STANDARD
BEGIN:DAYLIGHT
TZOFFSETFROM:+0100
TZOFFSETTO:+0200
TZNAME:CEST
DTSTART:20280326T010000
END:DAYLIGHT
BEGIN:STANDARD
TZOFFSETFROM:+0200
TZOFFSETTO:+0100
TZNAME:CET
DTSTART:20281029T010000
END:STANDARD
END:VTIMEZONE
BEGIN:VEVENT
DTSTART;TZID=Europe/Berlin:20260817T121500
DTEND;TZID=Europe/Berlin:20260817T134500
DTSTAMP:20260425T224320
CREATED:20260401T130240Z
LAST-MODIFIED:20260401T130240Z
UID:10001976-1786968900-1786974300@taempl.de
SUMMARY:Yoga für Schwangere mit Conny
DESCRIPTION:
URL:https://taempl.de/kalender-eintrag/yoga-fuer-schwangere-mit-conny/2026-08-17/
CATEGORIES:Intern,Öffentlich,Workshopraum
END:VEVENT
BEGIN:VEVENT
DTSTART;TZID=Europe/Berlin:20260824T121500
DTEND;TZID=Europe/Berlin:20260824T134500
DTSTAMP:20260425T224320
CREATED:20260401T130240Z
LAST-MODIFIED:20260401T130240Z
UID:10001977-1787573700-1787579100@taempl.de
SUMMARY:Yoga für Schwangere mit Conny
DESCRIPTION:
URL:https://taempl.de/kalender-eintrag/yoga-fuer-schwangere-mit-conny/2026-08-24/
CATEGORIES:Intern,Öffentlich,Workshopraum
END:VEVENT
BEGIN:VEVENT
DTSTART;TZID=Europe/Berlin:20260831T121500
DTEND;TZID=Europe/Berlin:20260831T134500
DTSTAMP:20260425T224320
CREATED:20260401T130240Z
LAST-MODIFIED:20260401T130240Z
UID:10001978-1788178500-1788183900@taempl.de
SUMMARY:Yoga für Schwangere mit Conny
DESCRIPTION:
URL:https://taempl.de/kalender-eintrag/yoga-fuer-schwangere-mit-conny/2026-08-31/
CATEGORIES:Intern,Öffentlich,Workshopraum
END:VEVENT
BEGIN:VEVENT
DTSTART;TZID=Europe/Berlin:20260907T121500
DTEND;TZID=Europe/Berlin:20260907T134500
DTSTAMP:20260425T224320
CREATED:20260401T130240Z
LAST-MODIFIED:20260401T130240Z
UID:10001979-1788783300-1788788700@taempl.de
SUMMARY:Yoga für Schwangere mit Conny
DESCRIPTION:
URL:https://taempl.de/kalender-eintrag/yoga-fuer-schwangere-mit-conny/2026-09-07/
CATEGORIES:Intern,Öffentlich,Workshopraum
END:VEVENT
BEGIN:VEVENT
DTSTART;TZID=Europe/Berlin:20260914T121500
DTEND;TZID=Europe/Berlin:20260914T134500
DTSTAMP:20260425T224320
CREATED:20260401T130240Z
LAST-MODIFIED:20260401T130240Z
UID:10001980-1789388100-1789393500@taempl.de
SUMMARY:Yoga für Schwangere mit Conny
DESCRIPTION:
URL:https://taempl.de/kalender-eintrag/yoga-fuer-schwangere-mit-conny/2026-09-14/
CATEGORIES:Intern,Öffentlich,Workshopraum
END:VEVENT
BEGIN:VEVENT
DTSTART;TZID=Europe/Berlin:20260921T121500
DTEND;TZID=Europe/Berlin:20260921T134500
DTSTAMP:20260425T224320
CREATED:20260401T130240Z
LAST-MODIFIED:20260401T130240Z
UID:10001981-1789992900-1789998300@taempl.de
SUMMARY:Yoga für Schwangere mit Conny
DESCRIPTION:
URL:https://taempl.de/kalender-eintrag/yoga-fuer-schwangere-mit-conny/2026-09-21/
CATEGORIES:Intern,Öffentlich,Workshopraum
END:VEVENT
BEGIN:VEVENT
DTSTART;TZID=Europe/Berlin:20260928T121500
DTEND;TZID=Europe/Berlin:20260928T134500
DTSTAMP:20260425T224320
CREATED:20260401T130240Z
LAST-MODIFIED:20260401T130240Z
UID:10001982-1790597700-1790603100@taempl.de
SUMMARY:Yoga für Schwangere mit Conny
DESCRIPTION:
URL:https://taempl.de/kalender-eintrag/yoga-fuer-schwangere-mit-conny/2026-09-28/
CATEGORIES:Intern,Öffentlich,Workshopraum
END:VEVENT
BEGIN:VEVENT
DTSTART;TZID=Europe/Berlin:20261005T121500
DTEND;TZID=Europe/Berlin:20261005T134500
DTSTAMP:20260425T224320
CREATED:20260401T130240Z
LAST-MODIFIED:20260401T130240Z
UID:10001983-1791202500-1791207900@taempl.de
SUMMARY:Yoga für Schwangere mit Conny
DESCRIPTION:
URL:https://taempl.de/kalender-eintrag/yoga-fuer-schwangere-mit-conny/2026-10-05/
CATEGORIES:Intern,Öffentlich,Workshopraum
END:VEVENT
BEGIN:VEVENT
DTSTART;TZID=Europe/Berlin:20261012T121500
DTEND;TZID=Europe/Berlin:20261012T134500
DTSTAMP:20260425T224320
CREATED:20260401T130240Z
LAST-MODIFIED:20260401T130240Z
UID:10001984-1791807300-1791812700@taempl.de
SUMMARY:Yoga für Schwangere mit Conny
DESCRIPTION:
URL:https://taempl.de/kalender-eintrag/yoga-fuer-schwangere-mit-conny/2026-10-12/
CATEGORIES:Intern,Öffentlich,Workshopraum
END:VEVENT
BEGIN:VEVENT
DTSTART;TZID=Europe/Berlin:20261019T121500
DTEND;TZID=Europe/Berlin:20261019T134500
DTSTAMP:20260425T224320
CREATED:20260401T130240Z
LAST-MODIFIED:20260401T130240Z
UID:10001985-1792412100-1792417500@taempl.de
SUMMARY:Yoga für Schwangere mit Conny
DESCRIPTION:
URL:https://taempl.de/kalender-eintrag/yoga-fuer-schwangere-mit-conny/2026-10-19/
CATEGORIES:Intern,Öffentlich,Workshopraum
END:VEVENT
BEGIN:VEVENT
DTSTART;TZID=Europe/Berlin:20261026T121500
DTEND;TZID=Europe/Berlin:20261026T134500
DTSTAMP:20260425T224320
CREATED:20260401T130240Z
LAST-MODIFIED:20260401T130240Z
UID:10001986-1793016900-1793022300@taempl.de
SUMMARY:Yoga für Schwangere mit Conny
DESCRIPTION:
URL:https://taempl.de/kalender-eintrag/yoga-fuer-schwangere-mit-conny/2026-10-26/
CATEGORIES:Intern,Öffentlich,Workshopraum
END:VEVENT
BEGIN:VEVENT
DTSTART;TZID=Europe/Berlin:20261102T121500
DTEND;TZID=Europe/Berlin:20261102T134500
DTSTAMP:20260425T224320
CREATED:20260401T130240Z
LAST-MODIFIED:20260401T130240Z
UID:10001987-1793621700-1793627100@taempl.de
SUMMARY:Yoga für Schwangere mit Conny
DESCRIPTION:
URL:https://taempl.de/kalender-eintrag/yoga-fuer-schwangere-mit-conny/2026-11-02/
CATEGORIES:Intern,Öffentlich,Workshopraum
END:VEVENT
BEGIN:VEVENT
DTSTART;TZID=Europe/Berlin:20261109T121500
DTEND;TZID=Europe/Berlin:20261109T134500
DTSTAMP:20260425T224320
CREATED:20260401T130240Z
LAST-MODIFIED:20260401T130240Z
UID:10001988-1794226500-1794231900@taempl.de
SUMMARY:Yoga für Schwangere mit Conny
DESCRIPTION:
URL:https://taempl.de/kalender-eintrag/yoga-fuer-schwangere-mit-conny/2026-11-09/
CATEGORIES:Intern,Öffentlich,Workshopraum
END:VEVENT
BEGIN:VEVENT
DTSTART;TZID=Europe/Berlin:20261116T121500
DTEND;TZID=Europe/Berlin:20261116T134500
DTSTAMP:20260425T224320
CREATED:20260401T130240Z
LAST-MODIFIED:20260401T130240Z
UID:10001989-1794831300-1794836700@taempl.de
SUMMARY:Yoga für Schwangere mit Conny
DESCRIPTION:
URL:https://taempl.de/kalender-eintrag/yoga-fuer-schwangere-mit-conny/2026-11-16/
CATEGORIES:Intern,Öffentlich,Workshopraum
END:VEVENT
BEGIN:VEVENT
DTSTART;TZID=Europe/Berlin:20261123T121500
DTEND;TZID=Europe/Berlin:20261123T134500
DTSTAMP:20260425T224320
CREATED:20260401T130240Z
LAST-MODIFIED:20260401T130240Z
UID:10001990-1795436100-1795441500@taempl.de
SUMMARY:Yoga für Schwangere mit Conny
DESCRIPTION:
URL:https://taempl.de/kalender-eintrag/yoga-fuer-schwangere-mit-conny/2026-11-23/
CATEGORIES:Intern,Öffentlich,Workshopraum
END:VEVENT
BEGIN:VEVENT
DTSTART;TZID=Europe/Berlin:20261130T121500
DTEND;TZID=Europe/Berlin:20261130T134500
DTSTAMP:20260425T224320
CREATED:20260401T130240Z
LAST-MODIFIED:20260401T130240Z
UID:10001991-1796040900-1796046300@taempl.de
SUMMARY:Yoga für Schwangere mit Conny
DESCRIPTION:
URL:https://taempl.de/kalender-eintrag/yoga-fuer-schwangere-mit-conny/2026-11-30/
CATEGORIES:Intern,Öffentlich,Workshopraum
END:VEVENT
BEGIN:VEVENT
DTSTART;TZID=Europe/Berlin:20261207T121500
DTEND;TZID=Europe/Berlin:20261207T134500
DTSTAMP:20260425T224320
CREATED:20260401T130240Z
LAST-MODIFIED:20260401T130240Z
UID:10001992-1796645700-1796651100@taempl.de
SUMMARY:Yoga für Schwangere mit Conny
DESCRIPTION:
URL:https://taempl.de/kalender-eintrag/yoga-fuer-schwangere-mit-conny/2026-12-07/
CATEGORIES:Intern,Öffentlich,Workshopraum
END:VEVENT
BEGIN:VEVENT
DTSTART;TZID=Europe/Berlin:20261214T121500
DTEND;TZID=Europe/Berlin:20261214T134500
DTSTAMP:20260425T224320
CREATED:20260401T130240Z
LAST-MODIFIED:20260401T130240Z
UID:10001993-1797250500-1797255900@taempl.de
SUMMARY:Yoga für Schwangere mit Conny
DESCRIPTION:
URL:https://taempl.de/kalender-eintrag/yoga-fuer-schwangere-mit-conny/2026-12-14/
CATEGORIES:Intern,Öffentlich,Workshopraum
END:VEVENT
BEGIN:VEVENT
DTSTART;TZID=Europe/Berlin:20261221T121500
DTEND;TZID=Europe/Berlin:20261221T134500
DTSTAMP:20260425T224320
CREATED:20260401T130240Z
LAST-MODIFIED:20260401T130240Z
UID:10001994-1797855300-1797860700@taempl.de
SUMMARY:Yoga für Schwangere mit Conny
DESCRIPTION:
URL:https://taempl.de/kalender-eintrag/yoga-fuer-schwangere-mit-conny/2026-12-21/
CATEGORIES:Intern,Öffentlich,Workshopraum
END:VEVENT
BEGIN:VEVENT
DTSTART;TZID=Europe/Berlin:20261228T121500
DTEND;TZID=Europe/Berlin:20261228T134500
DTSTAMP:20260425T224320
CREATED:20260401T130240Z
LAST-MODIFIED:20260401T130240Z
UID:10001995-1798460100-1798465500@taempl.de
SUMMARY:Yoga für Schwangere mit Conny
DESCRIPTION:
URL:https://taempl.de/kalender-eintrag/yoga-fuer-schwangere-mit-conny/2026-12-28/
CATEGORIES:Intern,Öffentlich,Workshopraum
END:VEVENT
BEGIN:VEVENT
DTSTART;TZID=Europe/Berlin:20270104T121500
DTEND;TZID=Europe/Berlin:20270104T134500
DTSTAMP:20260425T224320
CREATED:20260401T130240Z
LAST-MODIFIED:20260401T130240Z
UID:10001996-1799064900-1799070300@taempl.de
SUMMARY:Yoga für Schwangere mit Conny
DESCRIPTION:
URL:https://taempl.de/kalender-eintrag/yoga-fuer-schwangere-mit-conny/2027-01-04/
CATEGORIES:Intern,Öffentlich,Workshopraum
END:VEVENT
BEGIN:VEVENT
DTSTART;TZID=Europe/Berlin:20270111T121500
DTEND;TZID=Europe/Berlin:20270111T134500
DTSTAMP:20260425T224320
CREATED:20260401T130240Z
LAST-MODIFIED:20260401T130240Z
UID:10001997-1799669700-1799675100@taempl.de
SUMMARY:Yoga für Schwangere mit Conny
DESCRIPTION:
URL:https://taempl.de/kalender-eintrag/yoga-fuer-schwangere-mit-conny/2027-01-11/
CATEGORIES:Intern,Öffentlich,Workshopraum
END:VEVENT
BEGIN:VEVENT
DTSTART;TZID=Europe/Berlin:20270118T121500
DTEND;TZID=Europe/Berlin:20270118T134500
DTSTAMP:20260425T224320
CREATED:20260401T130240Z
LAST-MODIFIED:20260401T130240Z
UID:10001998-1800274500-1800279900@taempl.de
SUMMARY:Yoga für Schwangere mit Conny
DESCRIPTION:
URL:https://taempl.de/kalender-eintrag/yoga-fuer-schwangere-mit-conny/2027-01-18/
CATEGORIES:Intern,Öffentlich,Workshopraum
END:VEVENT
BEGIN:VEVENT
DTSTART;TZID=Europe/Berlin:20270125T121500
DTEND;TZID=Europe/Berlin:20270125T134500
DTSTAMP:20260425T224320
CREATED:20260401T130240Z
LAST-MODIFIED:20260401T130240Z
UID:10001999-1800879300-1800884700@taempl.de
SUMMARY:Yoga für Schwangere mit Conny
DESCRIPTION:
URL:https://taempl.de/kalender-eintrag/yoga-fuer-schwangere-mit-conny/2027-01-25/
CATEGORIES:Intern,Öffentlich,Workshopraum
END:VEVENT
BEGIN:VEVENT
DTSTART;TZID=Europe/Berlin:20270201T121500
DTEND;TZID=Europe/Berlin:20270201T134500
DTSTAMP:20260425T224320
CREATED:20260401T130240Z
LAST-MODIFIED:20260401T130240Z
UID:10002000-1801484100-1801489500@taempl.de
SUMMARY:Yoga für Schwangere mit Conny
DESCRIPTION:
URL:https://taempl.de/kalender-eintrag/yoga-fuer-schwangere-mit-conny/2027-02-01/
CATEGORIES:Intern,Öffentlich,Workshopraum
END:VEVENT
BEGIN:VEVENT
DTSTART;TZID=Europe/Berlin:20270208T121500
DTEND;TZID=Europe/Berlin:20270208T134500
DTSTAMP:20260425T224320
CREATED:20260401T130240Z
LAST-MODIFIED:20260401T130240Z
UID:10002001-1802088900-1802094300@taempl.de
SUMMARY:Yoga für Schwangere mit Conny
DESCRIPTION:
URL:https://taempl.de/kalender-eintrag/yoga-fuer-schwangere-mit-conny/2027-02-08/
CATEGORIES:Intern,Öffentlich,Workshopraum
END:VEVENT
BEGIN:VEVENT
DTSTART;TZID=Europe/Berlin:20270215T121500
DTEND;TZID=Europe/Berlin:20270215T134500
DTSTAMP:20260425T224320
CREATED:20260401T130240Z
LAST-MODIFIED:20260401T130240Z
UID:10002002-1802693700-1802699100@taempl.de
SUMMARY:Yoga für Schwangere mit Conny
DESCRIPTION:
URL:https://taempl.de/kalender-eintrag/yoga-fuer-schwangere-mit-conny/2027-02-15/
CATEGORIES:Intern,Öffentlich,Workshopraum
END:VEVENT
BEGIN:VEVENT
DTSTART;TZID=Europe/Berlin:20270222T121500
DTEND;TZID=Europe/Berlin:20270222T134500
DTSTAMP:20260425T224320
CREATED:20260401T130240Z
LAST-MODIFIED:20260401T130240Z
UID:10002003-1803298500-1803303900@taempl.de
SUMMARY:Yoga für Schwangere mit Conny
DESCRIPTION:
URL:https://taempl.de/kalender-eintrag/yoga-fuer-schwangere-mit-conny/2027-02-22/
CATEGORIES:Intern,Öffentlich,Workshopraum
END:VEVENT
BEGIN:VEVENT
DTSTART;TZID=Europe/Berlin:20270301T121500
DTEND;TZID=Europe/Berlin:20270301T134500
DTSTAMP:20260425T224320
CREATED:20260401T130240Z
LAST-MODIFIED:20260401T130240Z
UID:10002004-1803903300-1803908700@taempl.de
SUMMARY:Yoga für Schwangere mit Conny
DESCRIPTION:
URL:https://taempl.de/kalender-eintrag/yoga-fuer-schwangere-mit-conny/2027-03-01/
CATEGORIES:Intern,Öffentlich,Workshopraum
END:VEVENT
BEGIN:VEVENT
DTSTART;TZID=Europe/Berlin:20270308T121500
DTEND;TZID=Europe/Berlin:20270308T134500
DTSTAMP:20260425T224320
CREATED:20260401T130240Z
LAST-MODIFIED:20260401T130240Z
UID:10002005-1804508100-1804513500@taempl.de
SUMMARY:Yoga für Schwangere mit Conny
DESCRIPTION:
URL:https://taempl.de/kalender-eintrag/yoga-fuer-schwangere-mit-conny/2027-03-08/
CATEGORIES:Intern,Öffentlich,Workshopraum
END:VEVENT
END:VCALENDAR