BEGIN:VCALENDAR
VERSION:2.0
PRODID:-//taempl Leipzig - ECPv6.15.20//NONSGML v1.0//EN
CALSCALE:GREGORIAN
METHOD:PUBLISH
X-WR-CALNAME:taempl Leipzig
X-ORIGINAL-URL:https://taempl.de
X-WR-CALDESC:Veranstaltungen für taempl Leipzig
REFRESH-INTERVAL;VALUE=DURATION:PT1H
X-Robots-Tag:noindex
X-PUBLISHED-TTL:PT1H
BEGIN:VTIMEZONE
TZID:Europe/Berlin
BEGIN:DAYLIGHT
TZOFFSETFROM:+0100
TZOFFSETTO:+0200
TZNAME:CEST
DTSTART:20250330T010000
END:DAYLIGHT
BEGIN:STANDARD
TZOFFSETFROM:+0200
TZOFFSETTO:+0100
TZNAME:CET
DTSTART:20251026T010000
END:STANDARD
BEGIN:DAYLIGHT
TZOFFSETFROM:+0100
TZOFFSETTO:+0200
TZNAME:CEST
DTSTART:20260329T010000
END:DAYLIGHT
BEGIN:STANDARD
TZOFFSETFROM:+0200
TZOFFSETTO:+0100
TZNAME:CET
DTSTART:20261025T010000
END:STANDARD
BEGIN:DAYLIGHT
TZOFFSETFROM:+0100
TZOFFSETTO:+0200
TZNAME:CEST
DTSTART:20270328T010000
END:DAYLIGHT
BEGIN:STANDARD
TZOFFSETFROM:+0200
TZOFFSETTO:+0100
TZNAME:CET
DTSTART:20271031T010000
END:STANDARD
END:VTIMEZONE
BEGIN:VEVENT
DTSTART;VALUE=DATE:20260516
DTEND;VALUE=DATE:20260518
DTSTAMP:20260425T224724
CREATED:20260226T213758Z
LAST-MODIFIED:20260302T104523Z
UID:10001433-1778918400-1779048000@taempl.de
SUMMARY:'Die weiblichen Archetypen' mit Claudia (geschlossene Jahresgruppe)
DESCRIPTION:Jahresgruppe für Frauen „Die weiblichen Archetypen“ mit Claudia Neubert\n\ngeschlossene Gruppe 2026 \nFür die Jahresgruppe 2027 kannst du deinen Platz hier reservieren: https://www.claudianeubert.com/jahresgruppe-2026
URL:https://taempl.de/kalender-eintrag/jahresgruppe-claudia/2026-05-16/
LOCATION:tæmpl\, Weißenfelserstraße 11\, Leipzig\, Sachsen\, 04229\, Germany
CATEGORIES:Intern,Öffentlich,Workshopraum
ATTACH;FMTTYPE=image/png:https://taempl.de/wp-content/uploads/2026/02/taempl-Dienstagsfrauenkreis.png
ORGANIZER;CN="Claudia Neubert":MAILTO:mail@claudianeubert.com
END:VEVENT
BEGIN:VEVENT
DTSTART;VALUE=DATE:20260517
DTEND;VALUE=DATE:20260518
DTSTAMP:20260425T224724
CREATED:20260226T213758Z
LAST-MODIFIED:20260302T104523Z
UID:10001434-1779004800-1779048000@taempl.de
SUMMARY:'Die weiblichen Archetypen' mit Claudia (geschlossene Jahresgruppe)
DESCRIPTION:Jahresgruppe für Frauen „Die weiblichen Archetypen“ mit Claudia Neubert\n\ngeschlossene Gruppe 2026 \nFür die Jahresgruppe 2027 kannst du deinen Platz hier reservieren: https://www.claudianeubert.com/jahresgruppe-2026
URL:https://taempl.de/kalender-eintrag/jahresgruppe-claudia/2026-05-17/
LOCATION:tæmpl\, Weißenfelserstraße 11\, Leipzig\, Sachsen\, 04229\, Germany
CATEGORIES:Intern,Öffentlich,Workshopraum
ATTACH;FMTTYPE=image/png:https://taempl.de/wp-content/uploads/2026/02/taempl-Dienstagsfrauenkreis.png
ORGANIZER;CN="Claudia Neubert":MAILTO:mail@claudianeubert.com
END:VEVENT
BEGIN:VEVENT
DTSTART;VALUE=DATE:20261003
DTEND;VALUE=DATE:20261004
DTSTAMP:20260425T224724
CREATED:20260226T213758Z
LAST-MODIFIED:20260302T104523Z
UID:10001435-1791014400-1791057600@taempl.de
SUMMARY:'Die weiblichen Archetypen' mit Claudia (geschlossene Jahresgruppe)
DESCRIPTION:Jahresgruppe für Frauen „Die weiblichen Archetypen“ mit Claudia Neubert\n\ngeschlossene Gruppe 2026 \nFür die Jahresgruppe 2027 kannst du deinen Platz hier reservieren: https://www.claudianeubert.com/jahresgruppe-2026
URL:https://taempl.de/kalender-eintrag/jahresgruppe-claudia/2026-10-03/
LOCATION:tæmpl\, Weißenfelserstraße 11\, Leipzig\, Sachsen\, 04229\, Germany
CATEGORIES:Intern,Öffentlich,Workshopraum
ATTACH;FMTTYPE=image/png:https://taempl.de/wp-content/uploads/2026/02/taempl-Dienstagsfrauenkreis.png
ORGANIZER;CN="Claudia Neubert":MAILTO:mail@claudianeubert.com
END:VEVENT
BEGIN:VEVENT
DTSTART;VALUE=DATE:20261004
DTEND;VALUE=DATE:20261005
DTSTAMP:20260425T224724
CREATED:20260226T213758Z
LAST-MODIFIED:20260302T104523Z
UID:10001436-1791100800-1791144000@taempl.de
SUMMARY:'Die weiblichen Archetypen' mit Claudia (geschlossene Jahresgruppe)
DESCRIPTION:Jahresgruppe für Frauen „Die weiblichen Archetypen“ mit Claudia Neubert\n\ngeschlossene Gruppe 2026 \nFür die Jahresgruppe 2027 kannst du deinen Platz hier reservieren: https://www.claudianeubert.com/jahresgruppe-2026
URL:https://taempl.de/kalender-eintrag/jahresgruppe-claudia/2026-10-04/
LOCATION:tæmpl\, Weißenfelserstraße 11\, Leipzig\, Sachsen\, 04229\, Germany
CATEGORIES:Intern,Öffentlich,Workshopraum
ATTACH;FMTTYPE=image/png:https://taempl.de/wp-content/uploads/2026/02/taempl-Dienstagsfrauenkreis.png
ORGANIZER;CN="Claudia Neubert":MAILTO:mail@claudianeubert.com
END:VEVENT
END:VCALENDAR