BEGIN:VCALENDAR
VERSION:2.0
PRODID:-//taempl Leipzig - ECPv6.15.20//NONSGML v1.0//EN
CALSCALE:GREGORIAN
METHOD:PUBLISH
X-WR-CALNAME:taempl Leipzig
X-ORIGINAL-URL:https://taempl.de
X-WR-CALDESC:Veranstaltungen für taempl Leipzig
REFRESH-INTERVAL;VALUE=DURATION:PT1H
X-Robots-Tag:noindex
X-PUBLISHED-TTL:PT1H
BEGIN:VTIMEZONE
TZID:Europe/Berlin
BEGIN:DAYLIGHT
TZOFFSETFROM:+0100
TZOFFSETTO:+0200
TZNAME:CEST
DTSTART:20250330T010000
END:DAYLIGHT
BEGIN:STANDARD
TZOFFSETFROM:+0200
TZOFFSETTO:+0100
TZNAME:CET
DTSTART:20251026T010000
END:STANDARD
BEGIN:DAYLIGHT
TZOFFSETFROM:+0100
TZOFFSETTO:+0200
TZNAME:CEST
DTSTART:20260329T010000
END:DAYLIGHT
BEGIN:STANDARD
TZOFFSETFROM:+0200
TZOFFSETTO:+0100
TZNAME:CET
DTSTART:20261025T010000
END:STANDARD
BEGIN:DAYLIGHT
TZOFFSETFROM:+0100
TZOFFSETTO:+0200
TZNAME:CEST
DTSTART:20270328T010000
END:DAYLIGHT
BEGIN:STANDARD
TZOFFSETFROM:+0200
TZOFFSETTO:+0100
TZNAME:CET
DTSTART:20271031T010000
END:STANDARD
END:VTIMEZONE
BEGIN:VEVENT
DTSTART;TZID=Europe/Berlin:20260428T100000
DTEND;TZID=Europe/Berlin:20260428T130000
DTSTAMP:20260425T175352
CREATED:20260226T211922Z
LAST-MODIFIED:20260226T213407Z
UID:10001423-1777370400-1777381200@taempl.de
SUMMARY:Dienstags Frauenkreis mit Claudia
DESCRIPTION:STOPPEN\, ATMEN\, FÜHLEN\, MITTEILEN\, GEHALTEN UND GENÄHRT WERDEN \nWir treffen uns im Kreis von Frauen\, um uns zu spüren\, zu entspannen\, zu nähren\, zu inspirieren\, zu halten und uns zu erinnern\, wer wir wirklich sind. \nNutzen werden wir ehrliches Mitteilen\, Kontemplation\, Mama Kakao\, Bewegungsmeditation und die Weisheit jeder Einzelnen und der Gruppe. \nFrauenkreise sind eine Einladung\, in einem sicheren Kreis – in dem es keine Hierarchien\, kein Vergleichen\, besser oder schlechter gibt – dich zu trauen sich zu zeigen\, die Rüstungen und Masken weicher werden zu lassen und wiederzuentdecken\, was es bedeutet wir selbst zu sein… \n\n ZEIT \nAnkommen: ab 9.45 Uhr \nBeginn: 10.00 Uhr \nEnde: 13.00 Uhr \nKOSTEN \n45 € \nANMELDUNG\nhttps://www.claudianeubert.com/frauenkreis-kakaozeremonie
URL:https://taempl.de/kalender-eintrag/dienstags-frauenkreis/2026-04-28/
LOCATION:tæmpl\, Weißenfelserstraße 11\, Leipzig\, Sachsen\, 04229\, Germany
CATEGORIES:Intern,Öffentlich,Workshopraum
ATTACH;FMTTYPE=image/png:https://taempl.de/wp-content/uploads/2026/02/taempl-Dienstagsfrauenkreis-1.png
ORGANIZER;CN="Claudia Neubert":MAILTO:mail@claudianeubert.com
END:VEVENT
BEGIN:VEVENT
DTSTART;TZID=Europe/Berlin:20260512T100000
DTEND;TZID=Europe/Berlin:20260512T130000
DTSTAMP:20260425T175352
CREATED:20260226T211922Z
LAST-MODIFIED:20260226T213407Z
UID:10001424-1778580000-1778590800@taempl.de
SUMMARY:Dienstags Frauenkreis mit Claudia
DESCRIPTION:STOPPEN\, ATMEN\, FÜHLEN\, MITTEILEN\, GEHALTEN UND GENÄHRT WERDEN \nWir treffen uns im Kreis von Frauen\, um uns zu spüren\, zu entspannen\, zu nähren\, zu inspirieren\, zu halten und uns zu erinnern\, wer wir wirklich sind. \nNutzen werden wir ehrliches Mitteilen\, Kontemplation\, Mama Kakao\, Bewegungsmeditation und die Weisheit jeder Einzelnen und der Gruppe. \nFrauenkreise sind eine Einladung\, in einem sicheren Kreis – in dem es keine Hierarchien\, kein Vergleichen\, besser oder schlechter gibt – dich zu trauen sich zu zeigen\, die Rüstungen und Masken weicher werden zu lassen und wiederzuentdecken\, was es bedeutet wir selbst zu sein… \n\n ZEIT \nAnkommen: ab 9.45 Uhr \nBeginn: 10.00 Uhr \nEnde: 13.00 Uhr \nKOSTEN \n45 € \nANMELDUNG\nhttps://www.claudianeubert.com/frauenkreis-kakaozeremonie
URL:https://taempl.de/kalender-eintrag/dienstags-frauenkreis/2026-05-12/
LOCATION:tæmpl\, Weißenfelserstraße 11\, Leipzig\, Sachsen\, 04229\, Germany
CATEGORIES:Intern,Öffentlich,Workshopraum
ATTACH;FMTTYPE=image/png:https://taempl.de/wp-content/uploads/2026/02/taempl-Dienstagsfrauenkreis-1.png
ORGANIZER;CN="Claudia Neubert":MAILTO:mail@claudianeubert.com
END:VEVENT
BEGIN:VEVENT
DTSTART;TZID=Europe/Berlin:20260602T100000
DTEND;TZID=Europe/Berlin:20260602T130000
DTSTAMP:20260425T175352
CREATED:20260226T211922Z
LAST-MODIFIED:20260226T213407Z
UID:10001425-1780394400-1780405200@taempl.de
SUMMARY:Dienstags Frauenkreis mit Claudia
DESCRIPTION:STOPPEN\, ATMEN\, FÜHLEN\, MITTEILEN\, GEHALTEN UND GENÄHRT WERDEN \nWir treffen uns im Kreis von Frauen\, um uns zu spüren\, zu entspannen\, zu nähren\, zu inspirieren\, zu halten und uns zu erinnern\, wer wir wirklich sind. \nNutzen werden wir ehrliches Mitteilen\, Kontemplation\, Mama Kakao\, Bewegungsmeditation und die Weisheit jeder Einzelnen und der Gruppe. \nFrauenkreise sind eine Einladung\, in einem sicheren Kreis – in dem es keine Hierarchien\, kein Vergleichen\, besser oder schlechter gibt – dich zu trauen sich zu zeigen\, die Rüstungen und Masken weicher werden zu lassen und wiederzuentdecken\, was es bedeutet wir selbst zu sein… \n\n ZEIT \nAnkommen: ab 9.45 Uhr \nBeginn: 10.00 Uhr \nEnde: 13.00 Uhr \nKOSTEN \n45 € \nANMELDUNG\nhttps://www.claudianeubert.com/frauenkreis-kakaozeremonie
URL:https://taempl.de/kalender-eintrag/dienstags-frauenkreis/2026-06-02/
LOCATION:tæmpl\, Weißenfelserstraße 11\, Leipzig\, Sachsen\, 04229\, Germany
CATEGORIES:Intern,Öffentlich,Workshopraum
ATTACH;FMTTYPE=image/png:https://taempl.de/wp-content/uploads/2026/02/taempl-Dienstagsfrauenkreis-1.png
ORGANIZER;CN="Claudia Neubert":MAILTO:mail@claudianeubert.com
END:VEVENT
BEGIN:VEVENT
DTSTART;TZID=Europe/Berlin:20260630T100000
DTEND;TZID=Europe/Berlin:20260630T130000
DTSTAMP:20260425T175352
CREATED:20260226T211922Z
LAST-MODIFIED:20260226T213407Z
UID:10001426-1782813600-1782824400@taempl.de
SUMMARY:Dienstags Frauenkreis mit Claudia
DESCRIPTION:STOPPEN\, ATMEN\, FÜHLEN\, MITTEILEN\, GEHALTEN UND GENÄHRT WERDEN \nWir treffen uns im Kreis von Frauen\, um uns zu spüren\, zu entspannen\, zu nähren\, zu inspirieren\, zu halten und uns zu erinnern\, wer wir wirklich sind. \nNutzen werden wir ehrliches Mitteilen\, Kontemplation\, Mama Kakao\, Bewegungsmeditation und die Weisheit jeder Einzelnen und der Gruppe. \nFrauenkreise sind eine Einladung\, in einem sicheren Kreis – in dem es keine Hierarchien\, kein Vergleichen\, besser oder schlechter gibt – dich zu trauen sich zu zeigen\, die Rüstungen und Masken weicher werden zu lassen und wiederzuentdecken\, was es bedeutet wir selbst zu sein… \n\n ZEIT \nAnkommen: ab 9.45 Uhr \nBeginn: 10.00 Uhr \nEnde: 13.00 Uhr \nKOSTEN \n45 € \nANMELDUNG\nhttps://www.claudianeubert.com/frauenkreis-kakaozeremonie
URL:https://taempl.de/kalender-eintrag/dienstags-frauenkreis/2026-06-30/
LOCATION:tæmpl\, Weißenfelserstraße 11\, Leipzig\, Sachsen\, 04229\, Germany
CATEGORIES:Intern,Öffentlich,Workshopraum
ATTACH;FMTTYPE=image/png:https://taempl.de/wp-content/uploads/2026/02/taempl-Dienstagsfrauenkreis-1.png
ORGANIZER;CN="Claudia Neubert":MAILTO:mail@claudianeubert.com
END:VEVENT
BEGIN:VEVENT
DTSTART;TZID=Europe/Berlin:20260811T100000
DTEND;TZID=Europe/Berlin:20260811T130000
DTSTAMP:20260425T175352
CREATED:20260226T211922Z
LAST-MODIFIED:20260226T213407Z
UID:10001427-1786442400-1786453200@taempl.de
SUMMARY:Dienstags Frauenkreis mit Claudia
DESCRIPTION:STOPPEN\, ATMEN\, FÜHLEN\, MITTEILEN\, GEHALTEN UND GENÄHRT WERDEN \nWir treffen uns im Kreis von Frauen\, um uns zu spüren\, zu entspannen\, zu nähren\, zu inspirieren\, zu halten und uns zu erinnern\, wer wir wirklich sind. \nNutzen werden wir ehrliches Mitteilen\, Kontemplation\, Mama Kakao\, Bewegungsmeditation und die Weisheit jeder Einzelnen und der Gruppe. \nFrauenkreise sind eine Einladung\, in einem sicheren Kreis – in dem es keine Hierarchien\, kein Vergleichen\, besser oder schlechter gibt – dich zu trauen sich zu zeigen\, die Rüstungen und Masken weicher werden zu lassen und wiederzuentdecken\, was es bedeutet wir selbst zu sein… \n\n ZEIT \nAnkommen: ab 9.45 Uhr \nBeginn: 10.00 Uhr \nEnde: 13.00 Uhr \nKOSTEN \n45 € \nANMELDUNG\nhttps://www.claudianeubert.com/frauenkreis-kakaozeremonie
URL:https://taempl.de/kalender-eintrag/dienstags-frauenkreis/2026-08-11/
LOCATION:tæmpl\, Weißenfelserstraße 11\, Leipzig\, Sachsen\, 04229\, Germany
CATEGORIES:Intern,Öffentlich,Workshopraum
ATTACH;FMTTYPE=image/png:https://taempl.de/wp-content/uploads/2026/02/taempl-Dienstagsfrauenkreis-1.png
ORGANIZER;CN="Claudia Neubert":MAILTO:mail@claudianeubert.com
END:VEVENT
BEGIN:VEVENT
DTSTART;TZID=Europe/Berlin:20260915T100000
DTEND;TZID=Europe/Berlin:20260915T130000
DTSTAMP:20260425T175352
CREATED:20260226T211922Z
LAST-MODIFIED:20260226T213407Z
UID:10001428-1789466400-1789477200@taempl.de
SUMMARY:Dienstags Frauenkreis mit Claudia
DESCRIPTION:STOPPEN\, ATMEN\, FÜHLEN\, MITTEILEN\, GEHALTEN UND GENÄHRT WERDEN \nWir treffen uns im Kreis von Frauen\, um uns zu spüren\, zu entspannen\, zu nähren\, zu inspirieren\, zu halten und uns zu erinnern\, wer wir wirklich sind. \nNutzen werden wir ehrliches Mitteilen\, Kontemplation\, Mama Kakao\, Bewegungsmeditation und die Weisheit jeder Einzelnen und der Gruppe. \nFrauenkreise sind eine Einladung\, in einem sicheren Kreis – in dem es keine Hierarchien\, kein Vergleichen\, besser oder schlechter gibt – dich zu trauen sich zu zeigen\, die Rüstungen und Masken weicher werden zu lassen und wiederzuentdecken\, was es bedeutet wir selbst zu sein… \n\n ZEIT \nAnkommen: ab 9.45 Uhr \nBeginn: 10.00 Uhr \nEnde: 13.00 Uhr \nKOSTEN \n45 € \nANMELDUNG\nhttps://www.claudianeubert.com/frauenkreis-kakaozeremonie
URL:https://taempl.de/kalender-eintrag/dienstags-frauenkreis/2026-09-15/
LOCATION:tæmpl\, Weißenfelserstraße 11\, Leipzig\, Sachsen\, 04229\, Germany
CATEGORIES:Intern,Öffentlich,Workshopraum
ATTACH;FMTTYPE=image/png:https://taempl.de/wp-content/uploads/2026/02/taempl-Dienstagsfrauenkreis-1.png
ORGANIZER;CN="Claudia Neubert":MAILTO:mail@claudianeubert.com
END:VEVENT
BEGIN:VEVENT
DTSTART;TZID=Europe/Berlin:20261027T100000
DTEND;TZID=Europe/Berlin:20261027T130000
DTSTAMP:20260425T175352
CREATED:20260226T211922Z
LAST-MODIFIED:20260226T213407Z
UID:10001429-1793095200-1793106000@taempl.de
SUMMARY:Dienstags Frauenkreis mit Claudia
DESCRIPTION:STOPPEN\, ATMEN\, FÜHLEN\, MITTEILEN\, GEHALTEN UND GENÄHRT WERDEN \nWir treffen uns im Kreis von Frauen\, um uns zu spüren\, zu entspannen\, zu nähren\, zu inspirieren\, zu halten und uns zu erinnern\, wer wir wirklich sind. \nNutzen werden wir ehrliches Mitteilen\, Kontemplation\, Mama Kakao\, Bewegungsmeditation und die Weisheit jeder Einzelnen und der Gruppe. \nFrauenkreise sind eine Einladung\, in einem sicheren Kreis – in dem es keine Hierarchien\, kein Vergleichen\, besser oder schlechter gibt – dich zu trauen sich zu zeigen\, die Rüstungen und Masken weicher werden zu lassen und wiederzuentdecken\, was es bedeutet wir selbst zu sein… \n\n ZEIT \nAnkommen: ab 9.45 Uhr \nBeginn: 10.00 Uhr \nEnde: 13.00 Uhr \nKOSTEN \n45 € \nANMELDUNG\nhttps://www.claudianeubert.com/frauenkreis-kakaozeremonie
URL:https://taempl.de/kalender-eintrag/dienstags-frauenkreis/2026-10-27/
LOCATION:tæmpl\, Weißenfelserstraße 11\, Leipzig\, Sachsen\, 04229\, Germany
CATEGORIES:Intern,Öffentlich,Workshopraum
ATTACH;FMTTYPE=image/png:https://taempl.de/wp-content/uploads/2026/02/taempl-Dienstagsfrauenkreis-1.png
ORGANIZER;CN="Claudia Neubert":MAILTO:mail@claudianeubert.com
END:VEVENT
BEGIN:VEVENT
DTSTART;TZID=Europe/Berlin:20261124T100000
DTEND;TZID=Europe/Berlin:20261124T130000
DTSTAMP:20260425T175352
CREATED:20260226T211922Z
LAST-MODIFIED:20260226T213407Z
UID:10001430-1795514400-1795525200@taempl.de
SUMMARY:Dienstags Frauenkreis mit Claudia
DESCRIPTION:STOPPEN\, ATMEN\, FÜHLEN\, MITTEILEN\, GEHALTEN UND GENÄHRT WERDEN \nWir treffen uns im Kreis von Frauen\, um uns zu spüren\, zu entspannen\, zu nähren\, zu inspirieren\, zu halten und uns zu erinnern\, wer wir wirklich sind. \nNutzen werden wir ehrliches Mitteilen\, Kontemplation\, Mama Kakao\, Bewegungsmeditation und die Weisheit jeder Einzelnen und der Gruppe. \nFrauenkreise sind eine Einladung\, in einem sicheren Kreis – in dem es keine Hierarchien\, kein Vergleichen\, besser oder schlechter gibt – dich zu trauen sich zu zeigen\, die Rüstungen und Masken weicher werden zu lassen und wiederzuentdecken\, was es bedeutet wir selbst zu sein… \n\n ZEIT \nAnkommen: ab 9.45 Uhr \nBeginn: 10.00 Uhr \nEnde: 13.00 Uhr \nKOSTEN \n45 € \nANMELDUNG\nhttps://www.claudianeubert.com/frauenkreis-kakaozeremonie
URL:https://taempl.de/kalender-eintrag/dienstags-frauenkreis/2026-11-24/
LOCATION:tæmpl\, Weißenfelserstraße 11\, Leipzig\, Sachsen\, 04229\, Germany
CATEGORIES:Intern,Öffentlich,Workshopraum
ATTACH;FMTTYPE=image/png:https://taempl.de/wp-content/uploads/2026/02/taempl-Dienstagsfrauenkreis-1.png
ORGANIZER;CN="Claudia Neubert":MAILTO:mail@claudianeubert.com
END:VEVENT
BEGIN:VEVENT
DTSTART;TZID=Europe/Berlin:20261215T100000
DTEND;TZID=Europe/Berlin:20261215T130000
DTSTAMP:20260425T175352
CREATED:20260226T211922Z
LAST-MODIFIED:20260226T213407Z
UID:10001431-1797328800-1797339600@taempl.de
SUMMARY:Dienstags Frauenkreis mit Claudia
DESCRIPTION:STOPPEN\, ATMEN\, FÜHLEN\, MITTEILEN\, GEHALTEN UND GENÄHRT WERDEN \nWir treffen uns im Kreis von Frauen\, um uns zu spüren\, zu entspannen\, zu nähren\, zu inspirieren\, zu halten und uns zu erinnern\, wer wir wirklich sind. \nNutzen werden wir ehrliches Mitteilen\, Kontemplation\, Mama Kakao\, Bewegungsmeditation und die Weisheit jeder Einzelnen und der Gruppe. \nFrauenkreise sind eine Einladung\, in einem sicheren Kreis – in dem es keine Hierarchien\, kein Vergleichen\, besser oder schlechter gibt – dich zu trauen sich zu zeigen\, die Rüstungen und Masken weicher werden zu lassen und wiederzuentdecken\, was es bedeutet wir selbst zu sein… \n\n ZEIT \nAnkommen: ab 9.45 Uhr \nBeginn: 10.00 Uhr \nEnde: 13.00 Uhr \nKOSTEN \n45 € \nANMELDUNG\nhttps://www.claudianeubert.com/frauenkreis-kakaozeremonie
URL:https://taempl.de/kalender-eintrag/dienstags-frauenkreis/2026-12-15/
LOCATION:tæmpl\, Weißenfelserstraße 11\, Leipzig\, Sachsen\, 04229\, Germany
CATEGORIES:Intern,Öffentlich,Workshopraum
ATTACH;FMTTYPE=image/png:https://taempl.de/wp-content/uploads/2026/02/taempl-Dienstagsfrauenkreis-1.png
ORGANIZER;CN="Claudia Neubert":MAILTO:mail@claudianeubert.com
END:VEVENT
END:VCALENDAR